Workbook

Sheet Overview
A2: Company and Licence name, charging year, effective from, status
B3: Company and Licence name | C3: Year | D3: Effective From | E3: Status
A4: Company and Licence name, charging year, effective from, status | B4: Aidien Limited - GSP_G | C4: 2027/28 | D4: 1 April 2027 | E4: Final
A6: List of data tables in this workbook
A7: Worksheet | B7: Information
A8: Annex 1 LV, HV and Unmetered Supplies charges | B8: Annex 1 contains the charges to LV and HV Designated Properties and Unmetered Supplies.
A9: Annex 2 Designated EHV charges | B9: ="Annex 2 contains the charges to Designated EHV Properties and charges applied to LDNOs with Designated EHV Properties/end-users embedded in networks within the " &B4 &" Licence area." -> Annex 2 contains the charges to Designated EHV Properties and charges applied to LDNOs with Designated EHV Properties/end-users embedded in networks within the Aidien Limited - GSP_G Licence area.
A10: Annex 3 Preserved charges | B10: Annex 3 contains details of any preserved and additional charges that are valid at this time.
A11: Annex 4 LDNO charges | B11: ="Annex 4 contains charges that are levied on the owner of an embedded network within the "&B4&" Licence area. "&"Electricity suppliers and consumers who have properties connected to an embedded network should contact the embedded network owner to determine their distribution charges."&" The charges listed in this table are not payable by domestic consumers, business consumers or electricity suppliers." -> Annex 4 contains charges that are levied on the owner of an embedded network within the Aidien Limited - GSP_G Licence area. Electricity suppliers and consumers who have properties connected to an embedded network should contact the embedded network owner to determine their distribution charges. The charges listed in this table are not payable by domestic consumers, business consumers or electricity suppliers.
A12: Annex 5 LLFs | B12: Annex 5 has been intentionally left blank as this charging statement is published a complete year before the LLFs have been audited. The line loss factors that are approved by the BSC Panel for the applicable year and consequently published on the Elexon website will take precedence and be used in Settlement. This annex will be re-published with these values once they are available.
A13: Annex 6 Charges for New or Amended Designated EHV Properties | B13: ="Annex 6 contains the charges for new or amended Designated EHV Properties and charges applied to LDNOs with new or amended Designated EHV Properties/end-users embedded in networks within the " &B4 &" Licence area." -> Annex 6 contains the charges for new or amended Designated EHV Properties and charges applied to LDNOs with new or amended Designated EHV Properties/end-users embedded in networks within the Aidien Limited - GSP_G Licence area.
A14: Annex 7 Fixed adders for Supplier of Last Resort and Eligible Bad Debt pass-through costs | B14: Annex 7 contains the fixed adders to recover Supplier of Last Resort and Eligible Bad Debt pass-through costs.
A15: Nodal prices | B15: Contains the underlying [nodal/network group] costs used to calculate the current Designated EHV charges.
A16: Residual Charging Bandings | B16: Contains the four Residual charging band allocation for Customers
A17: TNUoS Mapping | B17: Contains the mapping between DUoS tariff names and expected TNUoS charging bands
A18: Charge calculator | B18: Charge calculator is a tool to help you estimate your distribution charges using current consumption data and forecast consumption data.
A20: Notes to users of this spreadsheet
A22: Please use this spreadsheet with reference to the LC14 use of system charging statement.
A24: Notes to DNOs populating this spreadsheet
A26: DNOs must endeavour to maintain consistency in the structure of this spreadsheet. Any changes to the structure must be noted in the 'Notes to users of this spreadsheet'
A27: The drop down list on the charge calculator can be expanded by unprotecting the charge calculator sheet and selecting 'data', 'data validation...' and then expanding the 'source' data range. The sheet can then be protected.

Sheet Annex 1 LV, HV and UMS charges
A1: Back to Overview
A2: =Overview!B4& " - Effective from "&Overview!D4&" - "&Overview!E4&" LV and HV charges" -> Aidien Limited - GSP_G - Effective from 1 April 2027 - Final LV and HV charges
A4: Time Bands for LV and HV Designated Properties | G4: Time Bands for Unmetered Properties
A5: Time periods | B5: Red Time Band | C5: Amber Time Band | E5: Green Time Band | I5: Black Time Band | J5: Yellow Time Band | K5: Green Time Band
A6: Monday to Friday (Including Bank Holidays) All Year | B6: 16:00 to 19:00 | C6: 09:00 to 16:00 19:00 to 20:30 | E6: 00.00 - 09.00 20.30 - 24.00 | G6: Monday to Friday (Including Bank Holidays) March to October Inclusive | J6: 09.00 - 20.30 | K6: 00.00 - 09.00 20.30 - 24.00
A7: Saturday and Sunday All Year | C7: 16:00 to 19:00 | E7: 00.00 - 16.00 19.00 - 24.00 | G7: Monday to Friday (Including Bank Holidays) November to February Inclusive | I7: 16:00 to 19:00 | J7: 09:00 - 16.00 19.00 - 20.30 | K7: 00.00 - 09.00 20.30 - 24.00
A8: Notes | B8: All the above times are in UK Clock time | G8: Saturday and Sunday All year | J8: 16:00 to 19:00 | K8: 00.00 - 16.00 19.00 - 24.00
G9: Notes | I9: All the above times are in UK Clock time
A11: Tariff name | B11: Open LLFCs | C11: PCs | D11: Red/black unit charge p/kWh | E11: Amber/yellow unit charge p/kWh | F11: Green unit charge p/kWh | G11: Fixed charge p/MPAN/day | H11: Capacity charge p/kVA/day | I11: Exceeded capacity charge p/kVA/day | J11: Reactive power charge p/kVArh | K11: Closed LLFCs
A12: Domestic Aggregated or CT with Residual | B12: G01,G02,G03 | C12: 0, 1, 2 | D12: 20.135 | E12: 3.064 | F12: 0.169 | G12: 9.95 | H12: 0 | I12: 0 | J12: 0
A13: Domestic Aggregated (Related MPAN) | B13: G04,G05,G06 | C13: 2 | D13: 20.135 | E13: 3.064 | F13: 0.169 | G13: 0 | H13: 0 | I13: 0 | J13: 0
A14: Non-Domestic Aggregated or CT No Residual | B14: G07,G08,G09 | C14: 0, 3, 4, 5-8 | D14: 18.542 | E14: 2.821 | F14: 0.155 | G14: 8.7 | H14: 0 | I14: 0 | J14: 0
A15: Non-Domestic Aggregated or CT Band 1 | B15: G10,G11,G12 | C15: 0, 3, 4, 5-8 | D15: 18.542 | E15: 2.821 | F15: 0.155 | G15: 10.84 | H15: 0 | I15: 0 | J15: 0
A16: Non-Domestic Aggregated or CT Band 2 | B16: G13,G14,G15 | C16: 0, 3, 4, 5-8 | D16: 18.542 | E16: 2.821 | F16: 0.155 | G16: 11.92 | H16: 0 | I16: 0 | J16: 0
A17: Non-Domestic Aggregated or CT Band 3 | B17: G16,G17,G18 | C17: 0, 3, 4, 5-8 | D17: 18.542 | E17: 2.821 | F17: 0.155 | G17: 15.28 | H17: 0 | I17: 0 | J17: 0
A18: Non-Domestic Aggregated or CT Band 4 | B18: G19,G20,G21 | C18: 0, 3, 4, 5-8 | D18: 18.542 | E18: 2.821 | F18: 0.155 | G18: 26.13 | H18: 0 | I18: 0 | J18: 0
A19: Non-Domestic Aggregated (related MPAN) | B19: G22,G23,G24 | C19: 4 | D19: 18.542 | E19: 2.821 | F19: 0.155 | G19: 0 | H19: 0 | I19: 0 | J19: 0
A20: LV Site Specific No Residual | B20: G25,G26,G27 | C20: 0 | D20: 12.275 | E20: 1.829 | F20: 0.099 | G20: 28.31 | H20: 8.65 | I20: 8.65 | J20: 0.24
A21: LV Site Specific Band 1 | B21: G28,G29,G30 | C21: 0 | D21: 12.275 | E21: 1.829 | F21: 0.099 | G21: 64.68 | H21: 8.65 | I21: 8.65 | J21: 0.24
A22: LV Site Specific Band 2 | B22: G31,G32,G33 | C22: 0 | D22: 12.275 | E22: 1.829 | F22: 0.099 | G22: 87.57 | H22: 8.65 | I22: 8.65 | J22: 0.24
A23: LV Site Specific Band 3 | B23: G34,G35,G36 | C23: 0 | D23: 12.275 | E23: 1.829 | F23: 0.099 | G23: 124.62 | H23: 8.65 | I23: 8.65 | J23: 0.24
A24: LV Site Specific Band 4 | B24: G37,G38,G39 | C24: 0 | D24: 12.275 | E24: 1.829 | F24: 0.099 | G24: 241.46 | H24: 8.65 | I24: 8.65 | J24: 0.24
A25: LV Sub Site Specific No Residual | B25: G40,G41 | C25: 0 | D25: 8.991 | E25: 1.306 | F25: 0.07 | G25: 91.37 | H25: 10.03 | I25: 10.03 | J25: 0.171
A26: LV Sub Site Specific Band 1 | B26: G42,G43 | C26: 0 | D26: 8.991 | E26: 1.306 | F26: 0.07 | G26: 127.74 | H26: 10.03 | I26: 10.03 | J26: 0.171
A27: LV Sub Site Specific Band 2 | B27: G44,G45 | C27: 0 | D27: 8.991 | E27: 1.306 | F27: 0.07 | G27: 150.62 | H27: 10.03 | I27: 10.03 | J27: 0.171
A28: LV Sub Site Specific Band 3 | B28: G46,G47 | C28: 0 | D28: 8.991 | E28: 1.306 | F28: 0.07 | G28: 187.68 | H28: 10.03 | I28: 10.03 | J28: 0.171
A29: LV Sub Site Specific Band 4 | B29: G48,G49 | C29: 0 | D29: 8.991 | E29: 1.306 | F29: 0.07 | G29: 304.52 | H29: 10.03 | I29: 10.03 | J29: 0.171
A30: HV Site Specific No Residual | B30: G50,G51 | C30: 0 | D30: 5.988 | E30: 0.836 | F30: 0.043 | G30: 200.91 | H30: 9.96 | I30: 9.96 | J30: 0.103
A31: HV Site Specific Band 1 | B31: G52,G53 | C31: 0 | D31: 5.988 | E31: 0.836 | F31: 0.043 | G31: 420.04 | H31: 9.96 | I31: 9.96 | J31: 0.103
... A34: HV Site Specific Band 4 | B34: G58,G59 | C34: 0 | D34: 5.988 | E34: 0.836 | F34: 0.043 | G34: 2882.16 | H34: 9.96 | I34: 9.96 | J34: 0.103
A35: Unmetered Supplies | B35: G60,G61,G62 | C35: 0, 1 or 8 | D35: 56.945 | E35: 5.996 | F35: 3.8 | G35: 0 | H35: 0 | I35: 0 | J35: 0
A36: LV Generation Aggregated | B36: G63,G64,G65 | C36: 0 | D36: -12.646 | E36: -1.924 | F36: -0.106 | G36: 0 | H36: 0 | I36: 0 | J36: 0
A37: LV Sub Generation Aggregated | B37: G66,G67 | C37: 0 | D37: -9.794 | E37: -1.466 | F37: -0.08 | G37: 0 | H37: 0 | I37: 0 | J37: 0
A38: LV Generation Site Specific | B38: G68,G69,G70 | C38: 0 | D38: -12.646 | E38: -1.924 | F38: -0.106 | G38: 0 | H38: 0 | I38: 0 | J38: 0.228
A39: LV Generation Site Specific no RP charge | B39: G71,G72,G73 | C39: 0 | D39: -12.646 | E39: -1.924 | F39: -0.106 | G39: 0 | H39: 0 | I39: 0 | J39: 0
A40: LV Sub Generation Site Specific | B40: G74,G75 | C40: 0 | D40: -9.794 | E40: -1.466 | F40: -0.08 | G40: 0 | H40: 0 | I40: 0 | J40: 0.198
A41: LV Sub Generation Site Specific no RP charge | B41: G76,G77 | C41: 0 | D41: -9.794 | E41: -1.466 | F41: -0.08 | G41: 0 | H41: 0 | I41: 0 | J41: 0
A42: HV Generation Site Specific | B42: G78,G79 | C42: 0 | D42: -7.196 | E42: -1.046 | F42: -0.056 | G42: 13.53 | H42: 0 | I42: 0 | J42: 0.16
A43: HV Generation Site Specific no RP charge | B43: G80,G81 | C43: 0 | D43: -7.196 | E43: -1.046 | F43: -0.056 | G43: 13.53 | H43: 0 | I43: 0 | J43: 0

Sheet Annex 2 Designated EHV charges
A1: Back to Overview | F1: Note: The list of MPANs / MSIDs provided may be incomplete; the DNO reserves the right to apply the listed charges to any other MPANs / MSIDs associated with the site.
A2: =Overview!B4& " - Effective from "&Overview!D4&" - "&Overview!E4&" Designated EHV charges" -> Aidien Limited - GSP_G - Effective from 1 April 2027 - Final Designated EHV charges
A4: Time Periods for Designated EHV Properties
A5: Time periods | D5: Super Red Time Band
A6: Monday to Friday (Including Bank Holidays) November to February Inclusive | D6: 16:00 - 19:00
A7: Notes | D7: All the above times are in UK Clock time
A9: Import Unique Identifier | B9: LLFC | C9: Import MPANs/MSIDs | D9: Export Unique Identifier | E9: LLFC | F9: Export MPANs/MSIDs | G9: Name | H9: Residual Charging Band | I9: Import Super Red unit charge (p/kWh) | J9: Import fixed charge (p/day) | K9: Import capacity charge (p/kVA/day) | L9: Import exceeded capacity charge (p/kVA/day) | M9: Export Super Red unit charge (p/kWh) | N9: Export fixed charge (p/day) | O9: Export capacity charge (p/kVA/day) | P9: Export exceeded capacity charge (p/kVA/day)

Sheet Annex 2a Import
A1: Note: The list of MPANs / MSIDs provided may be incomplete; the DNO reserves the right to apply the listed charges to any other MPANs / MSIDs associated with the site. Note: This table is automatically populated based on the content of the tab entitled 'Annex 2 Designated EHV Charges'. The timebands are as shown in Annex 2.
A2: =Overview!B4& " - Effective from "&Overview!D4&" - "&Overview!E4&" Designated EHV import charges" -> Aidien Limited - GSP_G - Effective from 1 April 2027 - Final Designated EHV import charges
A4: Import Unique Identifier | B4: LLFC | C4: Import MPANs/MSIDs | D4: Name | E4: ='Annex 2 Designated EHV charges'!I9 -> Import Super Red unit charge (p/kWh) | F4: ='Annex 2 Designated EHV charges'!J9 -> Import fixed charge (p/day) | G4: ='Annex 2 Designated EHV charges'!K9 -> Import capacity charge (p/kVA/day) | H4: ='Annex 2 Designated EHV charges'!L9 -> Import exceeded capacity charge (p/kVA/day)
A5: {=IFERROR(INDEX('Annex 2 Designated EHV charges'!$A$10:$A$30, MATCH(0, IF(ISBLANK('Annex 2 Designated EHV charges'!$A$10:$A$30),1, COUNTIF(A$4:$A4, 'Annex 2 Designated EHV charges'!$A$10:$A$30)), 0)),"")} | B5: =IF($A5="","",VLOOKUP($A5,'Annex 2 Designated EHV charges'!$A:$P,2,0)) | C5: =IF($A5="","",VLOOKUP($A5,'Annex 2 Designated EHV charges'!$A:$P,3,0)) | D5: =IF($A5="","",VLOOKUP($A5,'Annex 2 Designated EHV charges'!$A:$P,7,0)) | E5: =IFERROR(IF(VLOOKUP($A5,'Annex 2 Designated EHV charges'!$A:$P,9,FALSE)=0,"",VLOOKUP($A5,'Annex 2 Designated EHV charges'!$A:$P,9,FALSE)),"") | F5: =IFERROR(IF(VLOOKUP($A5,'Annex 2 Designated EHV charges'!$A:$P,10,FALSE)=0,"",VLOOKUP($A5,'Annex 2 Designated EHV charges'!$A:$P,10,FALSE)),"") | G5: =IFERROR(IF(VLOOKUP($A5,'Annex 2 Designated EHV charges'!$A:$P,11,FALSE)=0,"",VLOOKUP($A5,'Annex 2 Designated EHV charges'!$A:$P,11,FALSE)),"") | H5: =IFERROR(IF(VLOOKUP($A5,'Annex 2 Designated EHV charges'!$A:$P,12,FALSE)=0,"",VLOOKUP($A5,'Annex 2 Designated EHV charges'!$A:$P,12,FALSE)),"")
A6: {=IFERROR(INDEX('Annex 2 Designated EHV charges'!$A$10:$A$30, MATCH(0, IF(ISBLANK('Annex 2 Designated EHV charges'!$A$10:$A$30),1, COUNTIF(A$4:$A5, 'Annex 2 Designated EHV charges'!$A$10:$A$30)), 0)),"")} | B6: =IF($A6="","",VLOOKUP($A6,'Annex 2 Designated EHV charges'!$A:$P,2,0)) | C6: =IF($A6="","",VLOOKUP($A6,'Annex 2 Designated EHV charges'!$A:$P,3,0)) | D6: =IF($A6="","",VLOOKUP($A6,'Annex 2 Designated EHV charges'!$A:$P,7,0)) | E6: =IFERROR(IF(VLOOKUP($A6,'Annex 2 Designated EHV charges'!$A:$P,9,FALSE)=0,"",VLOOKUP($A6,'Annex 2 Designated EHV charges'!$A:$P,9,FALSE)),"") | F6: =IFERROR(IF(VLOOKUP($A6,'Annex 2 Designated EHV charges'!$A:$P,10,FALSE)=0,"",VLOOKUP($A6,'Annex 2 Designated EHV charges'!$A:$P,10,FALSE)),"") | G6: =IFERROR(IF(VLOOKUP($A6,'Annex 2 Designated EHV charges'!$A:$P,11,FALSE)=0,"",VLOOKUP($A6,'Annex 2 Designated EHV charges'!$A:$P,11,FALSE)),"") | H6: =IFERROR(IF(VLOOKUP($A6,'Annex 2 Designated EHV charges'!$A:$P,12,FALSE)=0,"",VLOOKUP($A6,'Annex 2 Designated EHV charges'!$A:$P,12,FALSE)),"")

Sheet Annex 2b Export
A1: Note: The list of MPANs / MSIDs provided may be incomplete; the DNO reserves the right to apply the listed charges to any other MPANs / MSIDs associated with the site. Note: This table is automatically populated based on the content of the tab entitled 'Annex 2 Designated EHV Charges'. The timebands are as shown in Annex 2.
A2: =Overview!B4& " - Effective from "&Overview!D4&" - "&Overview!E4&" Designated EHV export charges" -> Aidien Limited - GSP_G - Effective from 1 April 2027 - Final Designated EHV export charges
A4: Export Unique Identifier | B4: LLFC | C4: Export MPANs/MSIDs | D4: Name | E4: ='Annex 2 Designated EHV charges'!M9 -> Export Super Red unit charge (p/kWh) | F4: ='Annex 2 Designated EHV charges'!N9 -> Export fixed charge (p/day) | G4: ='Annex 2 Designated EHV charges'!O9 -> Export capacity charge (p/kVA/day) | H4: ='Annex 2 Designated EHV charges'!P9 -> Export exceeded capacity charge (p/kVA/day)
A5: {=IFERROR(INDEX('Annex 2 Designated EHV charges'!$D$10:$D$30, MATCH(0, IF(ISBLANK('Annex 2 Designated EHV charges'!$D$10:$D$30),1, COUNTIF(A$4:$A4, 'Annex 2 Designated EHV charges'!$D$10:$D$30)), 0)),"")} | B5: =IF($A5="","",VLOOKUP($A5,'Annex 2 Designated EHV charges'!$D:$P,2,0)) | C5: =IF($A5="","",VLOOKUP($A5,'Annex 2 Designated EHV charges'!$D:$P,3,0)) | D5: =IF($A5="","",VLOOKUP($A5,'Annex 2 Designated EHV charges'!$D:$P,4,0)) | E5: =IFERROR(IF(VLOOKUP($A5,'Annex 2 Designated EHV charges'!$D:$P,10,FALSE)=0,0,VLOOKUP($A5,'Annex 2 Designated EHV charges'!$D:$P,10,FALSE)),"") | F5: =IFERROR(IF(VLOOKUP($A5,'Annex 2 Designated EHV charges'!$D:$P,11,FALSE)=0,0,VLOOKUP($A5,'Annex 2 Designated EHV charges'!$D:$P,11,FALSE)),"") | G5: =IFERROR(IF(VLOOKUP($A5,'Annex 2 Designated EHV charges'!$D:$P,12,FALSE)=0,0,VLOOKUP($A5,'Annex 2 Designated EHV charges'!$D:$P,12,FALSE)),"") | H5: =IFERROR(IF(VLOOKUP($A5,'Annex 2 Designated EHV charges'!$D:$P,13,FALSE)=0,0,VLOOKUP($A5,'Annex 2 Designated EHV charges'!$D:$P,13,FALSE)),"")
A6: {=IFERROR(INDEX('Annex 2 Designated EHV charges'!$D$10:$D$30, MATCH(0, IF(ISBLANK('Annex 2 Designated EHV charges'!$D$10:$D$30),1, COUNTIF(A$4:$A5, 'Annex 2 Designated EHV charges'!$D$10:$D$30)), 0)),"")} | B6: =IF($A6="","",VLOOKUP($A6,'Annex 2 Designated EHV charges'!$D:$P,2,0)) | C6: =IF($A6="","",VLOOKUP($A6,'Annex 2 Designated EHV charges'!$D:$P,3,0)) | D6: =IF($A6="","",VLOOKUP($A6,'Annex 2 Designated EHV charges'!$D:$P,4,0)) | E6: =IFERROR(IF(VLOOKUP($A6,'Annex 2 Designated EHV charges'!$D:$P,10,FALSE)=0,0,VLOOKUP($A6,'Annex 2 Designated EHV charges'!$D:$P,10,FALSE)),"") | F6: =IFERROR(IF(VLOOKUP($A6,'Annex 2 Designated EHV charges'!$D:$P,11,FALSE)=0,0,VLOOKUP($A6,'Annex 2 Designated EHV charges'!$D:$P,11,FALSE)),"") | G6: =IFERROR(IF(VLOOKUP($A6,'Annex 2 Designated EHV charges'!$D:$P,12,FALSE)=0,0,VLOOKUP($A6,'Annex 2 Designated EHV charges'!$D:$P,12,FALSE)),"") | H6: =IFERROR(IF(VLOOKUP($A6,'Annex 2 Designated EHV charges'!$D:$P,13,FALSE)=0,0,VLOOKUP($A6,'Annex 2 Designated EHV charges'!$D:$P,13,FALSE)),"")

Sheet Annex 3 Preserved charges
A1: Back to Overview
A2: =Overview!B4& " - Effective from "&Overview!D4&" - "&Overview!E4&" LV and HV tariffs" -> Aidien Limited - GSP_G - Effective from 1 April 2027 - Final LV and HV tariffs
A3: NHH preserved charges/additional LLFCs
B4: Closed LLFCs | C4: PCs | D4: Unit charge 1 (NHH) p/kWh | E4: Unit charge 2 (NHH) p/kWh | F4: Fixed charge p/MPAN/day
A6: Notes:
A11: HH preserved charges/additional LLFCs
B12: Closed LLFCs | C12: PCs | D12: Red/black charge (HH) p/kWh | E12: Amber/yellow charge (HH) p/kWh | F12: Green charge (HH) p/kWh | G12: Fixed charge p/MPAN/day | H12: Capacity charge p/kVA/day | I12: Exceeded capacity charge p/kVA/day | J12: Reactive power charge p/kVArh
A14: Notes: | B14: Time periods
A24: =Overview!B4&" has no preserved charges/additional LLFCs" -> Aidien Limited - GSP_G has no preserved charges/additional LLFCs

Sheet Annex 4 LDNO charges
A1: Back to Overview
A2: =Overview!B4& " - Effective from "&Overview!D4&" - "&Overview!E4&" LDNO tariffs" -> Aidien Limited - GSP_G - Effective from 1 April 2027 - Final LDNO tariffs
A4: Time Bands for LV and HV Designated Properties | F4: Time Bands for Unmetered Properties
A5: Time periods | B5: Red Time Band | C5: Amber Time Band | D5: Green Time Band | H5: Black Time Band | I5: Yellow Time Band | J5: Green Time Band
A6: Monday to Friday (Including Bank Holidays) All Year | B6: 16:00 to 19:00 | C6: 09:00 to 16:00 19:00 to 20:30 | D6: 00.00 - 09.00 20.30 - 24.00 | F6: Monday to Friday (Including Bank Holidays) March to October Inclusive | I6: 09.00 - 20.30 | J6: 00.00 - 09.00 20.30 - 24.00
A7: Saturday and Sunday All Year | C7: 16:00 to 19:00 | D7: 00.00 - 16.00 19.00 - 24.00 | F7: Monday to Friday (Including Bank Holidays) November to February Inclusive | H7: 16:00 to 19:00 | I7: 09:00 - 16.00 19.00 - 20.30 | J7: 00.00 - 09.00 20.30 - 24.00
A8: Notes | B8: All the above times are in UK Clock time | F8: Saturday and Sunday All year | I8: 16:00 to 19:00 | J8: 00.00 - 16.00 19.00 - 24.00
F9: Notes | H9: All the above times are in UK Clock time
A11: Tariff name | B11: Unique billing identifier | C11: PCs | D11: ='Annex 1 LV, HV and UMS charges'!D11 -> Red/black unit charge p/kWh | E11: ='Annex 1 LV, HV and UMS charges'!E11 -> Amber/yellow unit charge p/kWh | F11: ='Annex 1 LV, HV and UMS charges'!F11 -> Green unit charge p/kWh | G11: ='Annex 1 LV, HV and UMS charges'!G11 -> Fixed charge p/MPAN/day | H11: ='Annex 1 LV, HV and UMS charges'!H11 -> Capacity charge p/kVA/day | I11: ='Annex 1 LV, HV and UMS charges'!I11 -> Exceeded capacity charge p/kVA/day | J11: ='Annex 1 LV, HV and UMS charges'!J11 -> Reactive power charge p/kVArh
A12: LDNO LV: Domestic Aggregated or CT with Residual | B12: G01 | C12: 0, 1 or 2 | D12: 12.164 | E12: 1.851 | F12: 0.102 | G12: 6.01 | H12: 0 | I12: 0 | J12: 0
A13: LDNO LV: Domestic Aggregated (related MPAN) | B13: G04 | C13: 2 | D13: 12.164 | E13: 1.851 | F13: 0.102 | G13: 0 | H13: 0 | I13: 0 | J13: 0
A14: LDNO LV: Non-Domestic Aggregated or CT No Residual | B14: G07 | C14: 0, 3, 4 or 5-8 | D14: 11.202 | E14: 1.704 | F14: 0.094 | G14: 5.26 | H14: 0 | I14: 0 | J14: 0
A15: LDNO LV: Non-Domestic Aggregated or CT Band 1 | B15: G10 | C15: 0, 3, 4 or 5-8 | D15: 11.202 | E15: 1.704 | F15: 0.094 | G15: 6.55 | H15: 0 | I15: 0 | J15: 0
A16: LDNO LV: Non-Domestic Aggregated or CT Band 2 | B16: G13 | C16: 0, 3, 4 or 5-8 | D16: 11.202 | E16: 1.704 | F16: 0.094 | G16: 7.2 | H16: 0 | I16: 0 | J16: 0
A17: LDNO LV: Non-Domestic Aggregated or CT Band 3 | B17: G16 | C17: 0, 3, 4 or 5-8 | D17: 11.202 | E17: 1.704 | F17: 0.094 | G17: 9.23 | H17: 0 | I17: 0 | J17: 0
A18: LDNO LV: Non-Domestic Aggregated or CT Band 4 | B18: G19 | C18: 0, 3, 4 or 5-8 | D18: 11.202 | E18: 1.704 | F18: 0.094 | G18: 15.78 | H18: 0 | I18: 0 | J18: 0
A19: LDNO LV: Non-Domestic Aggregated (related MPAN) | B19: G22 | C19: 4 | D19: 11.202 | E19: 1.704 | F19: 0.094 | G19: 0 | H19: 0 | I19: 0 | J19: 0
A20: LDNO LV: LV Site Specific No Residual | B20: G25 | C20: 0 | D20: 7.415 | E20: 1.105 | F20: 0.06 | G20: 17.1 | H20: 5.23 | I20: 5.23 | J20: 0.145
A21: LDNO LV: LV Site Specific Band 1 | B21: G28 | C21: 0 | D21: 7.415 | E21: 1.105 | F21: 0.06 | G21: 39.07 | H21: 5.23 | I21: 5.23 | J21: 0.145
A22: LDNO LV: LV Site Specific Band 2 | B22: G31 | C22: 0 | D22: 7.415 | E22: 1.105 | F22: 0.06 | G22: 52.9 | H22: 5.23 | I22: 5.23 | J22: 0.145
A23: LDNO LV: LV Site Specific Band 3 | B23: G34 | C23: 0 | D23: 7.415 | E23: 1.105 | F23: 0.06 | G23: 75.29 | H23: 5.23 | I23: 5.23 | J23: 0.145
A24: LDNO LV: LV Site Specific Band 4 | B24: G37 | C24: 0 | D24: 7.415 | E24: 1.105 | F24: 0.06 | G24: 145.87 | H24: 5.23 | I24: 5.23 | J24: 0.145
A25: LDNO LV: Unmetered Supplies | B25: G60 | C25: 0, 1 or 8 | D25: 34.402 | E25: 3.622 | F25: 2.296 | G25: 0 | H25: 0 | I25: 0 | J25: 0
A26: LDNO LV: LV Generation Aggregated | B26: G63 | C26: 0 or 8 | D26: -12.646 | E26: -1.924 | F26: -0.106 | G26: 0 | H26: 0 | I26: 0 | J26: 0
A27: LDNO LV: LV Generation Site Specific | B27: G68 | C27: 0 or 8 | D27: -12.646 | E27: -1.924 | F27: -0.106 | G27: 0 | H27: 0 | I27: 0 | J27: 0.228
A28: LDNO HV: Domestic Aggregated or CT with Residual | B28: G02 | C28: 0, 1 or 2 | D28: 8.622 | E28: 1.312 | F28: 0.072 | G28: 4.26 | H28: 0 | I28: 0 | J28: 0
A29: LDNO HV: Domestic Aggregated (Related MPAN) | B29: G05 | C29: 2 | D29: 8.622 | E29: 1.312 | F29: 0.072 | G29: 0 | H29: 0 | I29: 0 | J29: 0
A30: LDNO HV: Non-Domestic Aggregated or CT No Residual | B30: G08 | C30: 0, 3, 4 or 5-8 | D30: 7.94 | E30: 1.208 | F30: 0.067 | G30: 3.73 | H30: 0 | I30: 0 | J30: 0
A31: LDNO HV: Non-Domestic Aggregated or CT Band 1 | B31: G11 | C31: 0, 3, 4 or 5-8 | D31: 7.94 | E31: 1.208 | F31: 0.067 | G31: 4.64 | H31: 0 | I31: 0 | J31: 0
A32: LDNO HV: Non-Domestic Aggregated or CT Band 2 | B32: G14 | C32: 0, 3, 4 or 5-8 | D32: 7.94 | E32: 1.208 | F32: 0.067 | G32: 5.1 | H32: 0 | I32: 0 | J32: 0
A33: LDNO HV: Non-Domestic Aggregated or CT Band 3 | B33: G17 | C33: 0, 3, 4 or 5-8 | D33: 7.94 | E33: 1.208 | F33: 0.067 | G33: 6.54 | H33: 0 | I33: 0 | J33: 0
A34: LDNO HV: Non-Domestic Aggregated or CT Band 4 | B34: G20 | C34: 0, 3, 4 or 5-8 | D34: 7.94 | E34: 1.208 | F34: 0.067 | G34: 11.19 | H34: 0 | I34: 0 | J34: 0
A35: LDNO HV: Non-Domestic Aggregated (related MPAN) | B35: G23 | C35: 4 | D35: 7.94 | E35: 1.208 | F35: 0.067 | G35: 0 | H35: 0 | I35: 0 | J35: 0
A36: LDNO HV: LV Site Specific No Residual | B36: G26 | C36: 0 | D36: 5.256 | E36: 0.783 | F36: 0.043 | G36: 12.12 | H36: 3.71 | I36: 3.71 | J36: 0.103
A37: LDNO HV: LV Site Specific Band 1 | B37: G29 | C37: 0 | D37: 5.256 | E37: 0.783 | F37: 0.043 | G37: 27.7 | H37: 3.71 | I37: 3.71 | J37: 0.103
A38: LDNO HV: LV Site Specific Band 2 | B38: G32 | C38: 0 | D38: 5.256 | E38: 0.783 | F38: 0.043 | G38: 37.5 | H38: 3.71 | I38: 3.71 | J38: 0.103
A39: LDNO HV: LV Site Specific Band 3 | B39: G35 | C39: 0 | D39: 5.256 | E39: 0.783 | F39: 0.043 | G39: 53.36 | H39: 3.71 | I39: 3.71 | J39: 0.103
A40: LDNO HV: LV Site Specific Band 4 | B40: G38 | C40: 0 | D40: 5.256 | E40: 0.783 | F40: 0.043 | G40: 103.4 | H40: 3.71 | I40: 3.71 | J40: 0.103
A41: LDNO HV: LV Sub Site Specific No Residual | B41: G40 | C41: 0 | D41: 6.476 | E41: 0.941 | F41: 0.05 | G41: 65.82 | H41: 7.22 | I41: 7.22 | J41: 0.123
A42: LDNO HV: LV Sub Site Specific Band 1 | B42: G42 | C42: 0 | D42: 6.476 | E42: 0.941 | F42: 0.05 | G42: 92.01 | H42: 7.22 | I42: 7.22 | J42: 0.123
...

Sheet Annex 5 LLFs
A1: Back to Overview
A2: This table has intentionally been left blank. The line loss factors that are approved by the BSC Panel for the applicable year and consequently published on the Elexon website will take precedence and be used in Settlement. This annex will be re-published once these values are available.
A3: =Overview!B4& " - Illustrative LLFs for year beginning "&Overview!D4 -> Aidien Limited - GSP_G - Illustrative LLFs for year beginning 1 April 2027
A4: Time periods | B4: Period 1 | C4: Period 2 | D4: Period 3 | E4: Period 4
A10: Notes
A13: Generic demand and generation LLFs
A14: Metered voltage, respective periods and associated LLFCs
A15: Metered voltage | B15: Period 1 | C15: Period 2 | D15: Period 3 | E15: Period 4 | F15: Associated LLFC
A23: EHV site specific LLFs
A24: Demand
A25: Site | B25: Period 1 | C25: Period 2 | D25: Period 3 | E25: Period 4 | F25: Associated LLFC
A29: EHV site specific LLFs
A30: Generation
A31: Site | B31: Period 1 | C31: Period 2 | D31: Period 3 | E31: Period 4 | F31: Associated LLFC

Sheet Annex 6 New or Amended EHV
A1: Back to Overview | C1: Note: The list of MPANs/MSIDs provided may be incomplete; the DNO reserves the right to apply the listed charges to any other MPANs/MSIDs associated with the site. If sites appear in both Annex 2 and Annex 6, the charges in Annex 6 take precedence. Where an existing Designated EHV Property is modified and energised in the charging year, we may revise the EDCM charges for the modified Designated EHV Property.
A2: Annex 6 - Charges for New or Amended Designated EHV Properties
A4: =Overview!B4& " - Effective from "&Overview!D4&" - "&Overview!E4&" new Designated EHV charges" -> Aidien Limited - GSP_G - Effective from 1 April 2027 - Final new Designated EHV charges
A5: Effective from date | B5: Import Unique Identifier | C5: LLFC | D5: Import MPANs/MSIDs | E5: Export Unique Identifier | F5: LLFC | G5: Export MPANs/MSIDs | H5: Name | I5: ='Annex 2 Designated EHV charges'!I9 -> Import Super Red unit charge (p/kWh) | J5: ='Annex 2 Designated EHV charges'!J9 -> Import fixed charge (p/day) | K5: ='Annex 2 Designated EHV charges'!K9 -> Import capacity charge (p/kVA/day) | L5: ='Annex 2 Designated EHV charges'!L9 -> Import exceeded capacity charge (p/kVA/day) | M5: ='Annex 2 Designated EHV charges'!M9 -> Export Super Red unit charge (p/kWh) | N5: ='Annex 2 Designated EHV charges'!N9 -> Export fixed charge (p/day) | O5: ='Annex 2 Designated EHV charges'!O9 -> Export capacity charge (p/kVA/day) | P5: ='Annex 2 Designated EHV charges'!P9 -> Export exceeded capacity charge (p/kVA/day)
A17: =Overview!B4& " - Effective from "&Overview!D4&" - "&Overview!E4&" new Designated EHV line loss factors" -> Aidien Limited - GSP_G - Effective from 1 April 2027 - Final new Designated EHV line loss factors
A18: Effective from date | B18: Import Unique Identifier | C18: LLFC | D18: Import MPANs/MSIDs | E18: Export Unique Identifier | F18: LLFC | G18: Export MPANs/MSIDs | H18: Name | I18: Import LLF period 1 | J18: Import LLF period 2 | K18: Import LLF period 3 | L18: Import LLF period 4 | M18: Import LLF period 5 | N18: Export LLF period 1 | O18: Export LLF period 2 | P18: Export LLF period 3 | Q18: Export LLF period 4 | R18: Export LLF period 5
A32: New or Amended Charges for Designated EHV Properties can be found in the relevant 'Addendum' spreadsheet published on our website, as updated from time to time.

Sheet Annex 7 Pass-Through Costs
A1: Back to Overview
A2: =Overview!B4& " - Effective from "&Overview!D4&" - "&Overview!E4&" Supplier of Last Resort and Eligible Bad Debt Pass-Through Costs" -> Aidien Limited - GSP_G - Effective from 1 April 2027 - Final Supplier of Last Resort and Eligible Bad Debt Pass-Through Costs
A4: Tariff name | B4: Open LLFCs / LDNO unique billing identifier | C4: PCs | D4: Supplier of Last Resort Fixed charge adder* p/MPAN/day | E4: Eligible Bad Debt Fixed charge adder** p/MPAN/day
A5: Domestic Aggregated or CT | C5: 0, 1, 2 | D5: 0 | E5: 0
A6: Non-Domestic Aggregated or CT No Residual | C6: 0, 3, 4, 5-8 | E6: 0
A7: Non-Domestic Aggregated or CT Band 1 | C7: 0, 3, 4, 5-8 | E7: 0
A8: Non-Domestic Aggregated or CT Band 2 | C8: 0, 3, 4, 5-8 | E8: 0
A9: Non-Domestic Aggregated or CT Band 3 | C9: 0, 3, 4, 5-8 | E9: 0
A10: Non-Domestic Aggregated or CT Band 4 | C10: 0, 3, 4, 5-8 | E10: 0
A11: LV Site Specific No Residual | C11: 0 | E11: 0
A12: LV Site Specific Band 1 | C12: 0 | E12: 0
A13: LV Site Specific Band 2 | C13: 0 | E13: 0
A14: LV Site Specific Band 3 | C14: 0 | E14: 0
A15: LV Site Specific Band 4 | C15: 0 | E15: 0
A16: LV Sub Site Specific No Residual | C16: 0 | E16: 0
A17: LV Sub Site Specific Band 1 | C17: 0 | E17: 0
A18: LV Sub Site Specific Band 2 | C18: 0 | E18: 0
A19: LV Sub Site Specific Band 3 | C19: 0 | E19: 0
A20: LV Sub Site Specific Band 4 | C20: 0 | E20: 0
A21: HV Site Specific No Residual | C21: 0 | E21: 0
A22: HV Site Specific Band 1 | C22: 0 | E22: 0
... A25: HV Site Specific Band 4 | C25: 0 | E25: 0
A26: LDNO LV: Domestic Aggregated or CT | C26: 0, 1, 2 | D26: 0 | E26: 0
A27: LDNO LV: Non-Domestic Aggregated or CT No Residual | C27: 0, 3, 4, 5-8 | E27: 0
A28: LDNO LV: Non-Domestic Aggregated or CT Band 1 | C28: 0, 3, 4, 5-8 | E28: 0
A29: LDNO LV: Non-Domestic Aggregated or CT Band 2 | C29: 0, 3, 4, 5-8 | E29: 0
A30: LDNO LV: Non-Domestic Aggregated or CT Band 3 | C30: 0, 3, 4, 5-8 | E30: 0
A31: LDNO LV: Non-Domestic Aggregated or CT Band 4 | C31: 0, 3, 4, 5-8 | E31: 0
A32: LDNO LV: LV Site Specific No Residual | C32: 0 | E32: 0
A33: LDNO LV: LV Site Specific Band 1 | C33: 0 | E33: 0
A34: LDNO LV: LV Site Specific Band 2 | C34: 0 | E34: 0
A35: LDNO LV: LV Site Specific Band 3 | C35: 0 | E35: 0
A36: LDNO LV: LV Site Specific Band 4 | C36: 0 | E36: 0
A37: LDNO HV: Domestic Aggregated or CT | C37: 0, 1, 2 | D37: 0 | E37: 0
A38: LDNO HV: Non-Domestic Aggregated or CT No Residual | C38: 0, 3, 4, 5-8 | E38: 0
A39: LDNO HV: Non-Domestic Aggregated or CT Band 1 | C39: 0, 3, 4, 5-8 | E39: 0
A40: LDNO HV: Non-Domestic Aggregated or CT Band 2 | C40: 0, 3, 4, 5-8 | E40: 0
A41: LDNO HV: Non-Domestic Aggregated or CT Band 3 | C41: 0, 3, 4, 5-8 | E41: 0
A42: LDNO HV: Non-Domestic Aggregated or CT Band 4 | C42: 0, 3, 4, 5-8 | E42: 0
A43: LDNO HV: LV Site Specific No Residual | C43: 0 | E43: 0
...

Sheet Nodal prices
A1: Back to Overview
A2: =Overview!B4& " - Effective from "&Overview!D4&" - "&Overview!E4&" Nodal/Zonal charges" -> Aidien Limited - GSP_G - Effective from 1 April 2027 - Final Nodal/Zonal charges
A3: Node/Zone ID | B3: Geographical name | C3: Local charge 1 £/kVA | D3: Remote charge 1 £/kVA

Sheet SSC unit rate lookup
A1: Back to Overview
A28: Standard Settlement Configuration Id | B28: Standard Settlement Configuration Desc | C28: Common Decode | F28: Change implemented | G28: Date | H28: Comments
A29: 3 | B29: 10-hour OP | C29: A/R | F29: Notes updated | G29: 43626 | H29: Updated to reflect DCP 268 which delinks all tariffs from the TPR bands
A30: 4 | B30: 10-hour OP | C30: A/R | F30: Code 1 & 2 changed to A | G30: 43626 | H30: Updated to reflect DCP 268 which delinks all tariffs from the TPR bands
A31: 5 | B31: 10-hour OP + w/e | C31: A/R | F31: Code O changed to A/R | G31: 43626 | H31: Updated to reflect DCP 268 which delinks all tariffs from the TPR bands
A32: 6 | B32: 10.5-hour OP | C32: A/R | F32: Removed TPR | G32: 43626 | H32: Removed TPR lookup element as this no longer effects which rate to apply
A33: 7 | B33: 10.5-hour OP | C33: A/R
A34: 8 | B34: 10.5-hour OP | C34: A/R
A35: 9 | B35: 10.5-hour OP | C35: A/R
A36: 10 | B36: 10.5-hour OP | C36: A/R
A37: 11 | B37: 10.5-hour OP | C37: A/R
A38: 12 | B38: 10.5-hour OP | C38: A/R
A39: 13 | B39: 11 Hour OP | C39: A/R
A40: 15 | B40: 11 Hour OP | C40: A/R
A41: 16 | B41: 11.5-hour OP | C41: A/R
A42: 17 | B42: 11.5-hour OP | C42: A/R
A43: 18 | B43: 11.5-hour OP | C43: A/R
A44: 19 | B44: 11.5-hour OP | C44: A/R
... A763: 997 | B763: Evening/Weekend - BST | C763: A

Sheet Residual Charging Bands
A1: Back to Overview
A2: =Overview!B4& " - Effective from "&Overview!C4&" - "&Overview!E4&" Residual Charging Bands" -> Aidien Limited - GSP_G - Effective from 2027/28 - Final Residual Charging Bands
A4: Voltage of Connection | B4: Band | C4: Units | D4: Lower Threshold* | E4: Upper Threshold* | F4: Residual Charge per MPAN (£) per year
A5: Domestic Aggregated | B5: Single band | C5: - | D5: - | E5: - | F5: 4.5839971
A6: Designated Properties connected at LV, billing with no MIC | B6: 1 | C6: kWh | D6: 0 | E6: 3986 | F6: 7.8164814
B7: 2 | C7: kWh | D7: 3986 | E7: 13677 | F7: 11.782476
B8: 3 | C8: kWh | D8: 13677 | E8: 27543 | F8: 24.073046
B9: 4 | C9: kWh | D9: 27543 | E9: ∞ | F9: 63.777387
A10: Designated Properties connected at LV, billing with MIC | B10: 1 | C10: kVA | D10: 0 | E10: 90 | F10: 133.11311
B11: 2 | C11: kVA | D11: 90 | E11: 150 | F11: 216.87984
B12: 3 | C12: kVA | D12: 150 | E12: 250 | F12: 352.49306
B13: 4 | C13: kVA | D13: 250 | E13: ∞ | F13: 780.13101
A14: Designated Properties connected at HV | B14: 1 | C14: kVA | D14: 0 | E14: 500 | F14: 802.04758
B15: 2 | C15: kVA | D15: 500 | E15: 1100 | F15: 2013.5846
B16: 3 | C16: kVA | D16: 1100 | E16: 2000 | F16: 4052.1966
B17: 4 | C17: kVA | D17: 2000 | E17: ∞ | F17: 9813.3822
A18: Designated EHV Properties | B18: 1 | C18: kVA | D18: 0 | E18: 3500 | F18: 20441.618
B19: 2 | C19: kVA | D19: 3500 | E19: 11000 | F19: 135663.26
B20: 3 | C20: kVA | D20: 11000 | E20: 20000 | F20: 255807.35
B21: 4 | C21: kVA | D21: 20000 | E21: ∞ | F21: 319618.32
A22: * All boundaries are inclusive of the upper threshold and exclusive of the lower threshold i.e. Lower < x ≤ Upper.

Sheet TNUoS Mapping
A1: Back to Overview
A2: =Overview!B4& " - Effective from "&Overview!C4&" -"&" TNUoS Mapping" -> Aidien Limited - GSP_G - Effective from 2027/28 - TNUoS Mapping
A4: DUoS Tariff name | B4: TNUoS Site Charging Band
A5: Domestic Aggregated or CT with Residual | B5: Domestic
A6: Domestic Aggregated (Related MPAN) | B6: n/a (Non-Final Demand Site)
A7: Non-Domestic Aggregated or CT No Residual | B7: =$B$6 -> n/a (Non-Final Demand Site)
A8: Non-Domestic Aggregated or CT Band 1 | B8: LV_NoMIC_1
A9: Non-Domestic Aggregated or CT Band 2 | B9: LV_NoMIC_2
A10: Non-Domestic Aggregated or CT Band 3 | B10: LV_NoMIC_3
A11: Non-Domestic Aggregated or CT Band 4 | B11: LV_NoMIC_4
A12: Non-Domestic Aggregated (related MPAN) | B12: =$B$6 -> n/a (Non-Final Demand Site)
A13: LV Site Specific No Residual | B13: =$B$6 -> n/a (Non-Final Demand Site)
A14: LV Site Specific Band 1 | B14: LV1
A15: LV Site Specific Band 2 | B15: LV2
A16: LV Site Specific Band 3 | B16: LV3
A17: LV Site Specific Band 4 | B17: LV4
A18: LV Sub Site Specific No Residual | B18: =$B$6 -> n/a (Non-Final Demand Site)
A19: LV Sub Site Specific Band 1 | B19: LV1
A20: LV Sub Site Specific Band 2 | B20: LV2
A21: LV Sub Site Specific Band 3 | B21: LV3
A22: LV Sub Site Specific Band 4 | B22: LV4
A23: HV Site Specific No Residual | B23: =$B$6 -> n/a (Non-Final Demand Site)
A24: HV Site Specific Band 1 | B24: HV1
A25: HV Site Specific Band 2 | B25: HV2
A26: HV Site Specific Band 3 | B26: HV3
A27: HV Site Specific Band 4 | B27: HV4
A28: Unmetered Supplies | B28: n/a (p/kWh charge)
A29: LV Generation Aggregated | B29: =$B$6 -> n/a (Non-Final Demand Site)
A30: LV Sub Generation Aggregated | B30: =$B$6 -> n/a (Non-Final Demand Site)
A31: LV Generation Site Specific | B31: =$B$6 -> n/a (Non-Final Demand Site)
A32: LV Generation Site Specific no RP charge | B32: =$B$6 -> n/a (Non-Final Demand Site)
A33: LV Sub Generation Site Specific | B33: =$B$6 -> n/a (Non-Final Demand Site)
A34: LV Sub Generation Site Specific no RP charge | B34: =$B$6 -> n/a (Non-Final Demand Site)
A35: HV Generation Site Specific | B35: =$B$6 -> n/a (Non-Final Demand Site)
A36: HV Generation Site Specific no RP charge | B36: =$B$6 -> n/a (Non-Final Demand Site)
A37: Designated EHV Site Specific No Residual | B37: =$B$6 -> n/a (Non-Final Demand Site)
A38: Designated EHV Site Specific Band 1 | B38: EHV1
A39: Designated EHV Site Specific Band 2 | B39: EHV2
A40: Designated EHV Site Specific Band 3 | B40: EHV3
A41: Designated EHV Site Specific Band 4 | B41: EHV4

Sheet Charge Calculator
B1: Back to Overview
B2: =Overview!B4& " - Effective from "&Overview!D4&" - "&Overview!E4 -> Aidien Limited - GSP_G - Effective from 1 April 2027 - Final
B4: LV and HV designated properties and Unmetered Supplies tariff calculator | L4: EHV designated property calculator
B5: Step 1, Choose your tariff using the drop down list in cell B10 | L5: Step 1, Choose your tariff using the drop down list in cell L10
B6: Step 2, After selecting a tariff in step 1, Cells C12-I12 will generate headings, please enter your consumption in cells C13:I13 underneath each heading generated (if no heading leave cell blank) | L6: Step 2, After selecting a tariff in step 1, Cells M12-T12 will generate headings, please enter your consumption in cells M13:T13 underneath each heading generated (if no heading leave cell blank)
B7: Step 3, Enter a forecast of consumption if required in cells C14:I14 | L7: Step 3, Enter a forecast of consumption if required in cells M14:T14
B9: Tariff details Choose tariff name from drop down box below | C9: ='Annex 1 LV, HV and UMS charges'!D11 -> Red/black unit charge p/kWh | D9: ='Annex 1 LV, HV and UMS charges'!E11 -> Amber/yellow unit charge p/kWh | E9: ='Annex 1 LV, HV and UMS charges'!F11 -> Green unit charge p/kWh | F9: ='Annex 1 LV, HV and UMS charges'!G11 -> Fixed charge p/MPAN/day | G9: ='Annex 1 LV, HV and UMS charges'!H11 -> Capacity charge p/kVA/day | H9: ='Annex 1 LV, HV and UMS charges'!I11 -> Exceeded capacity charge p/kVA/day | I9: ='Annex 1 LV, HV and UMS charges'!J11 -> Reactive power charge p/kVArh | L9: Site details Choose the site name from the drop down box below | M9: ='Annex 2 Designated EHV charges'!I9 -> Import Super Red unit charge (p/kWh) | N9: ='Annex 2 Designated EHV charges'!J9 -> Import fixed charge (p/day) | O9: ='Annex 2 Designated EHV charges'!K9 -> Import capacity charge (p/kVA/day) | P9: ='Annex 2 Designated EHV charges'!L9 -> Import exceeded capacity charge (p/kVA/day) | Q9: ='Annex 2 Designated EHV charges'!M9 -> Export Super Red unit charge (p/kWh) | R9: ='Annex 2 Designated EHV charges'!N9 -> Export fixed charge (p/day) | S9: ='Annex 2 Designated EHV charges'!O9 -> Export capacity charge (p/kVA/day) | T9: ='Annex 2 Designated EHV charges'!P9 -> Export exceeded capacity charge (p/kVA/day)
C10: =IFERROR(VLOOKUP($B$10,'Annex 1 LV, HV and UMS charges'!$A:$K,4,FALSE),"") | D10: =IFERROR(VLOOKUP($B$10,'Annex 1 LV, HV and UMS charges'!$A:$K,5,FALSE),"") | E10: =IFERROR(VLOOKUP($B$10,'Annex 1 LV, HV and UMS charges'!$A:$K,6,FALSE),"") | F10: =IFERROR(VLOOKUP($B$10,'Annex 1 LV, HV and UMS charges'!$A:$K,7,FALSE),"") | G10: =IFERROR(VLOOKUP($B$10,'Annex 1 LV, HV and UMS charges'!$A:$K,8,FALSE),"") | H10: =IFERROR(VLOOKUP($B$10,'Annex 1 LV, HV and UMS charges'!$A:$K,9,FALSE),"") | I10: =IFERROR(VLOOKUP($B$10,'Annex 1 LV, HV and UMS charges'!$A:$K,10,FALSE),"") | M10: =IFERROR(VLOOKUP($L$10,'Annex 2 Designated EHV charges'!$G:$P,3,FALSE),"") | N10: =IFERROR(VLOOKUP($L$10,'Annex 2 Designated EHV charges'!$G:$P,4,FALSE),"") | O10: =IFERROR(VLOOKUP($L$10,'Annex 2 Designated EHV charges'!$G:$P,5,FALSE),"") | P10: =IFERROR(VLOOKUP($L$10,'Annex 2 Designated EHV charges'!$G:$P,6,FALSE),"") | Q10: =IFERROR(VLOOKUP($L$10,'Annex 2 Designated EHV charges'!$G:$P,7,FALSE),"") | R10: =IFERROR(VLOOKUP($L$10,'Annex 2 Designated EHV charges'!$G:$P,8,FALSE),"") | S10: =IFERROR(VLOOKUP($L$10,'Annex 2 Designated EHV charges'!$G:$P,9,FALSE),"") | T10: =IFERROR(VLOOKUP($L$10,'Annex 2 Designated EHV charges'!$G:$P,10,FALSE),"")
B12: Tariff components | C12: =C9 -> Red/black unit charge p/kWh | D12: =D9 -> Amber/yellow unit charge p/kWh | E12: =E9 -> Green unit charge p/kWh | F12: Number of days in consumption period i.e. 365 if one year | G12: Maximum import or export capacity kVA | H12: Average daily exceeded capacity kVA | I12: Excess reactive units kVArh | L12: Tariff components | M12: Import super red kWh | N12: Number of days in consumption period i.e. 365 if one year | O12: Maximum import capacity kVA | P12: Average daily exceeded capacity kVA | Q12: Export Super Red kWh | R12: Number of days in consumption period i.e. 365 if one year | S12: Maximum export capacity kVA | T12: Average daily exceeded capacity kVA
B13: Enter current consumption details | L13: Enter current consumption details | R13: =N13 -> 0
B14: Enter forecast consumption details (if different) | C14: =C13 -> 0 | D14: =D13 -> 0 | E14: =E13 -> 0 | F14: =F13 -> 0 | G14: =G13 -> 0 | H14: =H13 -> 0 | I14: =I13 -> 0 | L14: Enter forecast consumption details (if different) | M14: =M13 -> 0 | N14: =N13 -> 0 | O14: =O13 -> 0 | P14: =P13 -> 0 | Q14: =Q13 -> 0 | R14: =R13 -> 0 | S14: =S13 -> 0 | T14: =T13 -> 0
B16: Charge components | C16: Unit 1 £ | D16: Unit 2 £ | E16: Unit 3 £ | F16: Fixed charge £ | G16: Capacity charge £ | H16: Exceeded capacity charge £ | I16: Reactive power charge £ | L16: Charge components | M16: Import super red charge £ | N16: Import fixed charge £ | O16: Import capacity charge £ | P16: Import exceeded capacity charge £ | Q16: Export super red charge £ | R16: Export fixed charge £ | S16: Export capacity charge £ | T16: Export exceeded capacity charge £
B17: Current consumption period charges | C17: =IFERROR(C10*C13/100,"") | D17: =IFERROR(D10*D13/100,"") | E17: =IFERROR(E10*E13/100,"") | F17: =IFERROR(F10*F13/100,"") | G17: =IFERROR(G10*G13*F13/100,"") | H17: =IFERROR(H10*H13*F13/100,"") | I17: =IFERROR(I10*I13/100,"") | L17: Current consumption period charges | M17: =IFERROR(M10*M13/100,"") | N17: =IFERROR(N10*N13/100,"") | O17: =IFERROR(O10*O13*N13/100,"") | P17: =IFERROR(P10*P13*N13/100,"") | Q17: =IFERROR(Q10*Q13/100,"") | R17: =IFERROR(R10*R13/100,"") | S17: =IFERROR(S10*S13*R13/100,"") | T17: =IFERROR(T10*T13*R13/100,"")
B18: Forecast consumption period charges | C18: =IFERROR(C10*C14/100,"") | D18: =IFERROR(D10*D14/100,"") | E18: =IFERROR(E10*E14/100,"") | F18: =IFERROR(F10*F14/100,"") | G18: =IFERROR(G10*G14*F14/100,"") | H18: =IFERROR(H10*H14*F14/100,"") | I18: =IFERROR(I10*I14/100,"") | L18: Forecast consumption period charges | M18: =IFERROR(M10*M14/100,"") | N18: =IFERROR(N10*N14/100,"") | O18: =IFERROR(O10*O14*N14/100,"") | P18: =IFERROR(P10*P14*N14/100,"") | Q18: =IFERROR(Q10*Q14/100,"") | R18: =IFERROR(R10*R14/100,"") | S18: =IFERROR(S10*S14*R14/100,"") | T18: =IFERROR(T10*T14*R14/100,"")
C20: Total charge £ | M20: Import total charge £ | N20: Export total charge £
B21: Current consumption period charges | C21: =SUM(C17:I17) -> 0 | L21: Current consumption period charges | M21: =SUM(M17:P17) -> 0 | N21: =SUM(Q17:T17) -> 0
B22: Forecast consumption period charges | C22: =SUM(C18:I18) -> 0 | L22: Forecast consumption period charges | M22: =SUM(M18:P18) -> 0 | N22: =SUM(Q18:T18) -> 0
B24: These charges are estimates based on tariff selected and consumption values entered. | L24: These charges are estimates based on site selected and consumption values entered.
