Workbook
Name OLE_LINK1: 'Annex 3 Preserved charges'!#REF!

Sheet Overview
A2: Company and Licence name, charging year, effective from, status
B3: Company and Licence name | C3: Year | D3: Effective From | E3: Status
A4: Company and Licence name, charging year, effective from, status | B4: Aidien Limited - GSP_D | C4: 2027/28 | D4: 1 April 2027 | E4: Final
A6: List of data tables in this workbook
A7: Worksheet | B7: Information
A8: Annex 1 LV, HV and Unmetered Supplies charges | B8: Annex 1 contains the charges to LV and HV Designated Properties and Unmetered Supplies.
A9: Annex 2 Designated EHV charges | B9: ="Annex 2 contains the charges to Designated EHV Properties and charges applied to LDNOs with Designated EHV Properties/end-users embedded in networks within the " &B4 &" Licence area." -> Annex 2 contains the charges to Designated EHV Properties and charges applied to LDNOs with Designated EHV Properties/end-users embedded in networks within the Aidien Limited - GSP_D Licence area.
A10: Annex 3 Preserved charges | B10: Annex 3 contains details of any preserved and additional charges that are valid at this time.
A11: Annex 4 LDNO charges | B11: ="Annex 4 contains charges that are levied on the owner of an embedded network within the "&B4&" Licence area. "&"Electricity suppliers and consumers who have properties connected to an embedded network should contact the embedded network owner to determine their distribution charges."&" The charges listed in this table are not payable by domestic consumers, business consumers or electricity suppliers." -> Annex 4 contains charges that are levied on the owner of an embedded network within the Aidien Limited - GSP_D Licence area. Electricity suppliers and consumers who have properties connected to an embedded network should contact the embedded network owner to determine their distribution charges. The charges listed in this table are not payable by domestic consumers, business consumers or electricity suppliers.
A12: Annex 5 LLFs | B12: Annex 5 has been intentionally left blank as this charging statement is published a complete year before the LLFs have been audited. The line loss factors that are approved by the BSC Panel for the applicable year and consequently published on the Elexon website will take precedence and be used in Settlement. This annex will be re-published with these values once they are available.
A13: Annex 6 Charges for New or Amended Designated EHV Properties | B13: ="Annex 6 contains the charges for new or amended Designated EHV Properties and charges applied to LDNOs with new or amended Designated EHV Properties/end-users embedded in networks within the " &B4 &" Licence area." -> Annex 6 contains the charges for new or amended Designated EHV Properties and charges applied to LDNOs with new or amended Designated EHV Properties/end-users embedded in networks within the Aidien Limited - GSP_D Licence area.
A14: Annex 7 Fixed adders for Supplier of Last Resort and Eligible Bad Debt pass-through costs | B14: Annex 7 contains the fixed adders to recover Supplier of Last Resort and Eligible Bad Debt pass-through costs. The Excess Supplier of Last Resort fixed adder relates to an increase to previously published charges only.
A15: Nodal prices | B15: Contains the underlying [nodal/network group] costs used to calculate the current EDCM charges.
A16: SSC unit rate lookup | B16: Contains a mapping of Standard Settlement Configurations to common decodings
A17: Residual Charging Bandings | B17: Contains the four Residual charging band allocation for Customers
A18: TNUoS Mapping | B18: Contains a mapping of DUoS Tariffs to TNUoS Site Charging Bands
A19: Charge calculator | B19: Charge calculator is a tool to help you estimate your distribution charges using current consumption data and forecast consumption data.
A21: Notes to users of this spreadsheet
A23: Please use this spreadsheet with reference to the LC14 use of system charging statement.
A25: Notes to DNOs populating this spreadsheet
A27: DNOs must endeavour to maintain consistency in the structure of this spreadsheet. Any changes to the structure must be noted in the 'Notes to users of this spreadsheet'
A28: The drop down list on the charge calculator can be expanded by unprotecting the charge calculator sheet and selecting 'data', 'data validation...' and then expanding the 'source' data range. The sheet can then be protected.

Sheet Annex 1 LV, HV and UMS charges
A1: Back to Overview
A2: =Overview!B4& " - Effective from "&Overview!D4&" - "&Overview!E4&" LV and HV charges" -> Aidien Limited - GSP_D - Effective from 1 April 2027 - Final LV and HV charges
A4: Time Bands for LV and HV Designated Properties | G4: Time Bands for Unmetered Properties
A5: Time periods | B5: Red Time Band | C5: Amber Time Band | E5: Green Time Band | I5: Black Time Band | J5: Yellow Time Band | K5: Green Time Band
A6: Monday to Friday (Including Bank Holidays) All Year | B6: 16.30 - 19.30 | C6: 08.00 - 16.30 19.30 - 22.30 | E6: 00.00 - 08.00 22.30 - 00.00 | G6: Monday to Friday (Including Bank Holidays) June to August Inclusive | J6: 08.00 - 22.30 | K6: 00.00 - 08.00 22.30 - 00.00
A7: Saturday and Sunday All Year | C7: 16.00 - 20.00 | E7: 00.00 - 16.00 20.00 - 00.00 | G7: Monday to Friday (Including Bank Holidays) November to February Inclusive | I7: 16.30 - 19.30 | J7: 08.00 - 16.30 19.30 - 22.30 | K7: 00.00 - 08.00 22.30 - 00.00
A8: Notes | B8: All the above times are in UK Clock time | G8: Monday to Friday (Including Bank Holidays) March, April, May and September, October | I8: ` | J8: 08.00 - 22.30 | K8: 00.00 - 08.00 22.30 - 00.00
G9: Saturday and Sunday All year | J9: 16.00 - 20.00 | K9: 00:00-16:00 20:00-00:00
G10: Notes | I10: All the above times are in UK Clock time
A12: Tariff name | B12: Open LLFC / DUoS Tariff Id | C12: PCs | D12: Red/black unit charge p/kWh | E12: Amber/yellow unit charge p/kWh | F12: Green unit charge p/kWh | G12: Fixed charge p/MPAN/day | H12: Capacity charge p/kVA/day | I12: Exceeded capacity charge p/kVA/day | J12: Reactive power charge p/kVArh | K12: Closed LLFC / DUoS Tariff Id
A13: Domestic Aggregated or CT with Residual | B13: D01,D02,D03 | C13: 0, 1, 2 | D13: 15.969 | E13: 3.454 | F13: 0.464 | G13: 25.01
A14: Domestic Aggregated (Related MPAN) | B14: D04,D05,D06 | C14: 2 | D14: 15.969 | E14: 3.454 | F14: 0.464
A15: Non-Domestic Aggregated or CT No Residual | B15: D07,D08,D09 | C15: 0, 3, 4, 5-8 | D15: 16.63 | E15: 3.597 | F15: 0.483 | G15: 7.08
A16: Non-Domestic Aggregated or CT Band 1 | B16: D10,D11,D12 | C16: 0, 3, 4, 5-8 | D16: 16.63 | E16: 3.597 | F16: 0.483 | G16: 31.1
A17: Non-Domestic Aggregated or CT Band 2 | B17: D13,D14,D15 | C17: 0, 3, 4, 5-8 | D17: 16.63 | E17: 3.597 | F17: 0.483 | G17: 54.62
A18: Non-Domestic Aggregated or CT Band 3 | B18: D16,D17,D18 | C18: 0, 3, 4, 5-8 | D18: 16.63 | E18: 3.597 | F18: 0.483 | G18: 107.32
A19: Non-Domestic Aggregated or CT Band 4 | B19: D19,D20,D21 | C19: 0, 3, 4, 5-8 | D19: 16.63 | E19: 3.597 | F19: 0.483 | G19: 297.35
A20: Non-Domestic Aggregated (related MPAN) | B20: D22,D23,D24 | C20: 4 | D20: 16.63 | E20: 3.597 | F20: 0.483
A21: LV Site Specific No Residual | B21: D25,D26,D27 | C21: 0 | D21: 12.053 | E21: 2.374 | F21: 0.307 | G21: 23.02 | H21: 6.92 | I21: 6.92 | J21: 0.647
A22: LV Site Specific Band 1 | B22: D28,D29,D30 | C22: 0 | D22: 12.053 | E22: 2.374 | F22: 0.307 | G22: 583.6 | H22: 6.92 | I22: 6.92 | J22: 0.647
A23: LV Site Specific Band 2 | B23: D31,D32,D33 | C23: 0 | D23: 12.053 | E23: 2.374 | F23: 0.307 | G23: 1081.44 | H23: 6.92 | I23: 6.92 | J23: 0.647
A24: LV Site Specific Band 3 | B24: D34,D35,D36 | C24: 0 | D24: 12.053 | E24: 2.374 | F24: 0.307 | G24: 1700.7 | H24: 6.92 | I24: 6.92 | J24: 0.647
A25: LV Site Specific Band 4 | B25: D37,D38,D39 | C25: 0 | D25: 12.053 | E25: 2.374 | F25: 0.307 | G25: 3884.98 | H25: 6.92 | I25: 6.92 | J25: 0.647
A26: LV Sub Site Specific No Residual | B26: D40,D41 | C26: 0 | D26: 8.738 | E26: 1.391 | F26: 0.161 | G26: 8.12 | H26: 10.74 | I26: 10.74 | J26: 0.364
A27: LV Sub Site Specific Band 1 | B27: D42,D43 | C27: 0 | D27: 8.738 | E27: 1.391 | F27: 0.161 | G27: 568.71 | H27: 10.74 | I27: 10.74 | J27: 0.364
A28: LV Sub Site Specific Band 2 | B28: D44,D45 | C28: 0 | D28: 8.738 | E28: 1.391 | F28: 0.161 | G28: 1066.55 | H28: 10.74 | I28: 10.74 | J28: 0.364
A29: LV Sub Site Specific Band 3 | B29: D46,D47 | C29: 0 | D29: 8.738 | E29: 1.391 | F29: 0.161 | G29: 1685.81 | H29: 10.74 | I29: 10.74 | J29: 0.364
A30: LV Sub Site Specific Band 4 | B30: D48,D49 | C30: 0 | D30: 8.738 | E30: 1.391 | F30: 0.161 | G30: 3870.09 | H30: 10.74 | I30: 10.74 | J30: 0.364
A31: HV Site Specific No Residual | B31: D50,D51 | C31: 0 | D31: 6.875 | E31: 1.004 | F31: 0.104 | G31: 122.99 | H31: 9.98 | I31: 9.98 | J31: 0.261
A32: HV Site Specific Band 1 | B32: D52,D53 | C32: 0 | D32: 6.875 | E32: 1.004 | F32: 0.104 | G32: 3164.03 | H32: 9.98 | I32: 9.98 | J32: 0.261
... A35: HV Site Specific Band 4 | B35: D58,D59 | C35: 0 | D35: 6.875 | E35: 1.004 | F35: 0.104 | G35: 39330.22 | H35: 9.98 | I35: 9.98 | J35: 0.261
A36: Unmetered Supplies | B36: D60,D61,D62 | C36: 0, 1 or 8 | D36: 35.737 | E36: 5.57 | F36: 3.017
A37: LV Generation Aggregated | B37: D63,D64,D65 | C37: 0 | D37: -11.134 | E37: -2.408 | F37: -0.324 | G37: 0
A38: LV Sub Generation Aggregated | B38: D66,D67 | C38: 0 | D38: -9.503 | E38: -1.939 | F38: -0.255 | G38: 0
A39: LV Generation Site Specific | B39: D68,D69,D70 | C39: 0 | D39: -11.134 | E39: -2.408 | F39: -0.324 | G39: 0 | J39: 0.61
A40: LV Generation Site Specific no RP charge | B40: D71,D72,D73 | C40: 0 | D40: -11.134 | E40: -2.408 | F40: -0.324 | G40: 0
A41: LV Sub Generation Site Specific | B41: D74,D75 | C41: 0 | D41: -9.503 | E41: -1.939 | F41: -0.255 | G41: 0 | J41: 0.526
A42: LV Sub Generation Site Specific no RP charge | B42: D76,D77 | C42: 0 | D42: -9.503 | E42: -1.939 | F42: -0.255 | G42: 0
A43: HV Generation Site Specific | B43: D78,D79 | C43: 0 | D43: -7.057 | E43: -1.123 | F43: -0.13 | G43: 89.81 | J43: 0.446
A44: HV Generation Site Specific no RP charge | B44: D80,D81 | C44: 0 | D44: -7.057 | E44: -1.123 | F44: -0.13 | G44: 89.81

Sheet Annex 2 Designated EHV charges
A1: Back to Overview | F1: Note: The list of MPANs / MSIDs provided may be incomplete; the DNO reserves the right to apply the listed charges to any other MPANs / MSIDs associated with the site.
A2: =Overview!B4& " - Effective from "&Overview!D4&" - "&Overview!E4&" Designated EHV charges" -> Aidien Limited - GSP_D - Effective from 1 April 2027 - Final Designated EHV charges
A4: Time Periods for Designated EHV Properties
A5: Time periods | D5: Super Red Time Band
A6: Monday to Friday (Including Bank Holidays) June to August Inclusive
A7: Monday to Friday (Including Bank Holidays) November to February Inclusive | D7: 16:30 - 19:30
A8: Notes | D8: All the above times are in UK Clock time
A10: Import Unique Identifier | B10: LLFC / DUoS Tariff ID | C10: Import MPANs/MSIDs | D10: Export Unique Identifier | E10: LLFC / DUoS Tariff ID | F10: Export MPANs/MSIDs | G10: Name | H10: Residual Charging Band | I10: Import Super Red unit charge (p/kWh) | J10: Import fixed charge (p/day) | K10: Import capacity charge (p/kVA/day) | L10: Import exceeded capacity charge (p/kVA/day) | M10: Export Super Red unit charge (p/kWh) | N10: Export fixed charge (p/day) | O10: Export capacity charge (p/kVA/day) | P10: Export exceeded capacity charge (p/kVA/day)

Sheet Annex 2a Import
A1: Note: The list of MPANs / MSIDs provided may be incomplete; the DNO reserves the right to apply the listed charges to any other MPANs / MSIDs associated with the site. Note: This table is automatically populated based on the content of the tab entitled 'Annex 2 EHV Charges'. The timebands are as shown in Annex 2.
A2: =Overview!B4& " - Effective from "&Overview!D4&" - "&Overview!E4&" Designated EHV import charges" -> Aidien Limited - GSP_D - Effective from 1 April 2027 - Final Designated EHV import charges
A4: Import Unique Identifier | B4: LLFC / DUoS Tariff ID | C4: Import MPANs/MSIDs | D4: Name | E4: ='Annex 2 Designated EHV charges'!I10 -> Import Super Red unit charge (p/kWh) | F4: ='Annex 2 Designated EHV charges'!J10 -> Import fixed charge (p/day) | G4: ='Annex 2 Designated EHV charges'!K10 -> Import capacity charge (p/kVA/day) | H4: ='Annex 2 Designated EHV charges'!L10 -> Import exceeded capacity charge (p/kVA/day)
A5: {=IFERROR(INDEX('Annex 2 Designated EHV charges'!$A$11:$A$12, MATCH(0, IF(ISBLANK('Annex 2 Designated EHV charges'!$A$11:$A$12),1, COUNTIF(A$4:$A4, 'Annex 2 Designated EHV charges'!$A$11:$A$12)), 0)),"")} | B5: =IF($A5="","",VLOOKUP($A5,'Annex 2 Designated EHV charges'!$A:$O,2,0)) | C5: =IF($A5="","",VLOOKUP($A5,'Annex 2 Designated EHV charges'!$A:$O,3,0)) | D5: =IF($A5="","",VLOOKUP($A5,'Annex 2 Designated EHV charges'!$A:$O,7,0)) | E5: =IFERROR(IF(VLOOKUP($A5,'Annex 2 Designated EHV charges'!$A:$O,9,FALSE)=0,"",VLOOKUP($A5,'Annex 2 Designated EHV charges'!$A:$O,9,FALSE)),"") | F5: =IFERROR(IF(VLOOKUP($A5,'Annex 2 Designated EHV charges'!$A:$O,10,FALSE)=0,"",VLOOKUP($A5,'Annex 2 Designated EHV charges'!$A:$O,10,FALSE)),"") | G5: =IFERROR(IF(VLOOKUP($A5,'Annex 2 Designated EHV charges'!$A:$O,11,FALSE)=0,"",VLOOKUP($A5,'Annex 2 Designated EHV charges'!$A:$O,11,FALSE)),"") | H5: =IFERROR(IF(VLOOKUP($A5,'Annex 2 Designated EHV charges'!$A:$O,12,FALSE)=0,"",VLOOKUP($A5,'Annex 2 Designated EHV charges'!$A:$O,12,FALSE)),"")
A6: {=IFERROR(INDEX('Annex 2 Designated EHV charges'!$A$11:$A$12, MATCH(0, IF(ISBLANK('Annex 2 Designated EHV charges'!$A$11:$A$12),1, COUNTIF(A$4:$A5, 'Annex 2 Designated EHV charges'!$A$11:$A$12)), 0)),"")} | B6: =IF($A6="","",VLOOKUP($A6,'Annex 2 Designated EHV charges'!$A:$O,2,0)) | C6: =IF($A6="","",VLOOKUP($A6,'Annex 2 Designated EHV charges'!$A:$O,3,0)) | D6: =IF($A6="","",VLOOKUP($A6,'Annex 2 Designated EHV charges'!$A:$O,7,0)) | E6: =IFERROR(IF(VLOOKUP($A6,'Annex 2 Designated EHV charges'!$A:$O,9,FALSE)=0,"",VLOOKUP($A6,'Annex 2 Designated EHV charges'!$A:$O,9,FALSE)),"") | F6: =IFERROR(IF(VLOOKUP($A6,'Annex 2 Designated EHV charges'!$A:$O,10,FALSE)=0,"",VLOOKUP($A6,'Annex 2 Designated EHV charges'!$A:$O,10,FALSE)),"") | G6: =IFERROR(IF(VLOOKUP($A6,'Annex 2 Designated EHV charges'!$A:$O,11,FALSE)=0,"",VLOOKUP($A6,'Annex 2 Designated EHV charges'!$A:$O,11,FALSE)),"") | H6: =IFERROR(IF(VLOOKUP($A6,'Annex 2 Designated EHV charges'!$A:$O,12,FALSE)=0,"",VLOOKUP($A6,'Annex 2 Designated EHV charges'!$A:$O,12,FALSE)),"")

Sheet Annex 2b Export
A1: Note: The list of MPANs / MSIDs provided may be incomplete; the DNO reserves the right to apply the listed charges to any other MPANs / MSIDs associated with the site. Note: This table is automatically populated based on the content of the tab entitled 'Annex 2 EHV Charges'. The timebands are as shown in Annex 2.
A2: =Overview!B4& " - Effective from "&Overview!D4&" - "&Overview!E4&" Designated EHV export charges" -> Aidien Limited - GSP_D - Effective from 1 April 2027 - Final Designated EHV export charges
A4: Export Unique Identifier | B4: LLFC / DUoS Tariff ID | C4: Export MPANs/MSIDs | D4: Name | E4: ='Annex 2 Designated EHV charges'!M10 -> Export Super Red unit charge (p/kWh) | F4: ='Annex 2 Designated EHV charges'!N10 -> Export fixed charge (p/day) | G4: ='Annex 2 Designated EHV charges'!O10 -> Export capacity charge (p/kVA/day) | H4: ='Annex 2 Designated EHV charges'!P10 -> Export exceeded capacity charge (p/kVA/day)
A5: {=IFERROR(INDEX('Annex 2 Designated EHV charges'!$D$11:$D$12, MATCH(0, IF(ISBLANK('Annex 2 Designated EHV charges'!$D$11:$D$12),1, COUNTIF(A$4:$A4, 'Annex 2 Designated EHV charges'!$D$11:$D$12)), 0)),"")} | B5: =IF($A5="","",VLOOKUP($A5,'Annex 2 Designated EHV charges'!$D:$O,2,0)) | C5: =IF($A5="","",VLOOKUP($A5,'Annex 2 Designated EHV charges'!$D:$O,3,0)) | D5: =IF($A5="","",VLOOKUP($A5,'Annex 2 Designated EHV charges'!$D:$O,4,0)) | E5: =IFERROR(IF(VLOOKUP($A5,'Annex 2 Designated EHV charges'!$D:$O,10,FALSE)=0,"",VLOOKUP($A5,'Annex 2 Designated EHV charges'!$D:$O,10,FALSE)),"") | F5: =IFERROR(IF(VLOOKUP($A5,'Annex 2 Designated EHV charges'!$D:$O,11,FALSE)=0,"",VLOOKUP($A5,'Annex 2 Designated EHV charges'!$D:$O,11,FALSE)),"") | G5: =IFERROR(IF(VLOOKUP($A5,'Annex 2 Designated EHV charges'!$D:$O,12,FALSE)=0,"",VLOOKUP($A5,'Annex 2 Designated EHV charges'!$D:$O,12,FALSE)),"") | H5: =IFERROR(IF(VLOOKUP($A5,'Annex 2 Designated EHV charges'!$D:$P,13,FALSE)=0,"",VLOOKUP($A5,'Annex 2 Designated EHV charges'!$D:$P,13,FALSE)),"")
A6: {=IFERROR(INDEX('Annex 2 Designated EHV charges'!$D$11:$D$12, MATCH(0, IF(ISBLANK('Annex 2 Designated EHV charges'!$D$11:$D$12),1, COUNTIF(A$4:$A5, 'Annex 2 Designated EHV charges'!$D$11:$D$12)), 0)),"")} | B6: =IF($A6="","",VLOOKUP($A6,'Annex 2 Designated EHV charges'!$D:$O,2,0)) | C6: =IF($A6="","",VLOOKUP($A6,'Annex 2 Designated EHV charges'!$D:$O,3,0)) | D6: =IF($A6="","",VLOOKUP($A6,'Annex 2 Designated EHV charges'!$D:$O,4,0)) | E6: =IFERROR(IF(VLOOKUP($A6,'Annex 2 Designated EHV charges'!$D:$O,10,FALSE)=0,"",VLOOKUP($A6,'Annex 2 Designated EHV charges'!$D:$O,10,FALSE)),"") | F6: =IFERROR(IF(VLOOKUP($A6,'Annex 2 Designated EHV charges'!$D:$O,11,FALSE)=0,"",VLOOKUP($A6,'Annex 2 Designated EHV charges'!$D:$O,11,FALSE)),"") | G6: =IFERROR(IF(VLOOKUP($A6,'Annex 2 Designated EHV charges'!$D:$O,12,FALSE)=0,"",VLOOKUP($A6,'Annex 2 Designated EHV charges'!$D:$O,12,FALSE)),"") | H6: =IFERROR(IF(VLOOKUP($A6,'Annex 2 Designated EHV charges'!$D:$P,13,FALSE)=0,"",VLOOKUP($A6,'Annex 2 Designated EHV charges'!$D:$P,13,FALSE)),"")

Sheet Annex 3 Preserved charges
A1: Back to Overview
A2: =Overview!B4& " - Effective from "&Overview!D4&" - "&Overview!E4&" LV and HV tariffs" -> Aidien Limited - GSP_D - Effective from 1 April 2027 - Final LV and HV tariffs
A3: Supercustomer preserved charges/additional LLFCs
B4: Closed LLFC / DUoS Tariff Id | C4: PCs | D4: Red/black unit charge p/kWh | E4: Amber/yellow unit charge p/kWh | F4: Green unit charge p/kWh | G4: Fixed charge p/MPAN/day
A6: Notes:
A11: Site Specific preserved charges/additional LLFCs
B12: Closed LLFC / DUoS Tariff Id | C12: PCs | D12: Red/black unit charge p/kWh | E12: Amber/yellow unit charge p/kWh | F12: Green unit charge p/kWh | G12: Fixed charge p/MPAN/day | H12: Capacity charge p/kVA/day | I12: Exceeded capacity charge p/kVA/day | J12: Reactive power charge p/kVArh
A14: Notes:

Sheet Annex 4 LDNO charges
A1: Back to Overview
A2: =Overview!B4& " - Effective from "&Overview!D4&" - "&Overview!E4&" LDNO tariffs" -> Aidien Limited - GSP_D - Effective from 1 April 2027 - Final LDNO tariffs
A4: Time Bands for LV and HV Designated Properties | F4: Time Bands for Unmetered Properties
A5: Time periods | B5: Red Time Band | C5: Amber Time Band | D5: Green Time Band | H5: Black Time Band | I5: Yellow Time Band | J5: Green Time Band
A6: Monday to Friday (Including Bank Holidays) All Year | B6: 16.30 - 19.30 | C6: 08.00 - 16.30 19.30 - 22.30 | D6: 00.00 - 08.00 22.30 - 00.00 | F6: Monday to Friday (Including Bank Holidays) June to August Inclusive | I6: 08.00 - 22.30 | J6: 00.00 - 08.00 22.30 - 00.00
A7: Saturday and Sunday All Year | C7: 16.00 - 20.00 | D7: 00.00 - 16.00 20.00 - 00.00 | F7: Monday to Friday (Including Bank Holidays) November to February Inclusive | H7: 16.30 - 19.30 | I7: 08.00 - 16.30 19.30 - 22.30 | J7: 00.00 - 08.00 22.30 - 00.00
A8: Notes | B8: All the above times are in UK Clock time | F8: Monday to Friday (Including Bank Holidays) March to May, & September to October, Inclusive | I8: 08.00 - 22.30 | J8: 00.00 - 08.00 22.30 - 00.00
F9: Saturday and Sunday All year | I9: 16.00 - 20.00 | J9: 00:00-16:00 20:00-00:00
F10: Notes | H10: All the above times are in UK Clock time
A13: Tariff name | B13: Unique billing identifier | C13: PCs | D13: Red/black unit charge p/kWh | E13: Amber/yellow unit charge p/kWh | F13: Green unit charge p/kWh | G13: Fixed charge p/MPAN/day | H13: Capacity charge p/kVA/day | I13: Exceeded capacity charge p/kVA/day | J13: Reactive power charge p/kVArh
A14: LDNO LV: Domestic Aggregated or CT with Residual | B14: D01 | C14: 0, 1, 2 | D14: 9.877 | E14: 2.136 | F14: 0.287 | G14: 15.47 | M14: 1
A15: LDNO LV: Domestic Aggregated (related MPAN) | B15: D04 | C15: 2 | D15: 9.877 | E15: 2.136 | F15: 0.287 | M15: 1
A16: LDNO LV: Non-Domestic Aggregated or CT No Residual | B16: D07 | C16: 0, 3, 4, 5-8 | D16: 10.286 | E16: 2.225 | F16: 0.299 | G16: 4.38 | M16: 1
A17: LDNO LV: Non-Domestic Aggregated or CT Band 1 | B17: D10 | C17: 0, 3, 4, 5-8 | D17: 10.286 | E17: 2.225 | F17: 0.299 | G17: 19.24 | M17: 1
A18: LDNO LV: Non-Domestic Aggregated or CT Band 2 | B18: D13 | C18: 0, 3, 4, 5-8 | D18: 10.286 | E18: 2.225 | F18: 0.299 | G18: 33.78 | M18: 1
A19: LDNO LV: Non-Domestic Aggregated or CT Band 3 | B19: D16 | C19: 0, 3, 4, 5-8 | D19: 10.286 | E19: 2.225 | F19: 0.299 | G19: 66.38 | M19: 1
A20: LDNO LV: Non-Domestic Aggregated or CT Band 4 | B20: D19 | C20: 0, 3, 4, 5-8 | D20: 10.286 | E20: 2.225 | F20: 0.299 | G20: 183.92 | M20: 1
A21: LDNO LV: Non-Domestic Aggregated (related MPAN) | B21: D22 | C21: 4 | D21: 10.286 | E21: 2.225 | F21: 0.299 | M21: 1
A22: LDNO LV: LV Site Specific No Residual | B22: D25 | C22: 0 | D22: 7.455 | E22: 1.468 | F22: 0.19 | G22: 14.24 | H22: 4.28 | I22: 4.28 | J22: 0.4 | M22: 1
A23: LDNO LV: LV Site Specific Band 1 | B23: D28 | C23: 0 | D23: 7.455 | E23: 1.468 | F23: 0.19 | G23: 360.97 | H23: 4.28 | I23: 4.28 | J23: 0.4 | M23: 1
A24: LDNO LV: LV Site Specific Band 2 | B24: D31 | C24: 0 | D24: 7.455 | E24: 1.468 | F24: 0.19 | G24: 668.9 | H24: 4.28 | I24: 4.28 | J24: 0.4 | M24: 1
A25: LDNO LV: LV Site Specific Band 3 | B25: D34 | C25: 0 | D25: 7.455 | E25: 1.468 | F25: 0.19 | G25: 1051.92 | H25: 4.28 | I25: 4.28 | J25: 0.4 | M25: 1
A26: LDNO LV: LV Site Specific Band 4 | B26: D37 | C26: 0 | D26: 7.455 | E26: 1.468 | F26: 0.19 | G26: 2402.95 | H26: 4.28 | I26: 4.28 | J26: 0.4 | M26: 1
A27: LDNO LV: Unmetered Supplies | B27: D60 | C27: 0, 1 or 8 | D27: 22.104 | E27: 3.445 | F27: 1.866 | M27: 1
A28: LDNO LV: LV Generation Aggregated | B28: D63 | C28: 0, 8 | D28: -11.134 | E28: -2.408 | F28: -0.324 | G28: 0 | M28: 1
A29: LDNO LV: LV Generation Site Specific | B29: D68 | C29: 0 | D29: -11.134 | E29: -2.408 | F29: -0.324 | G29: 0 | J29: 0.61 | M29: 1
A30: LDNO HV: Domestic Aggregated or CT with Residual | B30: D02 | C30: 0, 1, 2 | D30: 7.113 | E30: 1.538 | F30: 0.207 | G30: 11.14 | M30: 1
A31: LDNO HV: Domestic Aggregated (Related MPAN) | B31: D05 | C31: 2 | D31: 7.113 | E31: 1.538 | F31: 0.207 | M31: 1
A32: LDNO HV: Non-Domestic Aggregated or CT No Residual | B32: D08 | C32: 0, 3, 4, 5-8 | D32: 7.407 | E32: 1.602 | F32: 0.215 | G32: 3.15 | M32: 1
A33: LDNO HV: Non-Domestic Aggregated or CT Band 1 | B33: D11 | C33: 0, 3, 4, 5-8 | D33: 7.407 | E33: 1.602 | F33: 0.215 | G33: 13.85 | M33: 1
A34: LDNO HV: Non-Domestic Aggregated or CT Band 2 | B34: D14 | C34: 0, 3, 4, 5-8 | D34: 7.407 | E34: 1.602 | F34: 0.215 | G34: 24.33 | M34: 1
A35: LDNO HV: Non-Domestic Aggregated or CT Band 3 | B35: D17 | C35: 0, 3, 4, 5-8 | D35: 7.407 | E35: 1.602 | F35: 0.215 | G35: 47.8 | M35: 1
A36: LDNO HV: Non-Domestic Aggregated or CT Band 4 | B36: D20 | C36: 0, 3, 4, 5-8 | D36: 7.407 | E36: 1.602 | F36: 0.215 | G36: 132.44 | M36: 1
A37: LDNO HV: Non-Domestic Aggregated (related MPAN) | B37: D23 | C37: 4 | D37: 7.407 | E37: 1.602 | F37: 0.215 | M37: 1
A38: LDNO HV: LV Site Specific No Residual | B38: D26 | C38: 0 | D38: 5.369 | E38: 1.057 | F38: 0.137 | G38: 10.25 | H38: 3.08 | I38: 3.08 | J38: 0.288 | M38: 1
A39: LDNO HV: LV Site Specific Band 1 | B39: D29 | C39: 0 | D39: 5.369 | E39: 1.057 | F39: 0.137 | G39: 259.95 | H39: 3.08 | I39: 3.08 | J39: 0.288 | M39: 1
A40: LDNO HV: LV Site Specific Band 2 | B40: D32 | C40: 0 | D40: 5.369 | E40: 1.057 | F40: 0.137 | G40: 481.69 | H40: 3.08 | I40: 3.08 | J40: 0.288 | M40: 1
A41: LDNO HV: LV Site Specific Band 3 | B41: D35 | C41: 0 | D41: 5.369 | E41: 1.057 | F41: 0.137 | G41: 757.52 | H41: 3.08 | I41: 3.08 | J41: 0.288 | M41: 1
A42: LDNO HV: LV Site Specific Band 4 | B42: D38 | C42: 0 | D42: 5.369 | E42: 1.057 | F42: 0.137 | G42: 1730.43 | H42: 3.08 | I42: 3.08 | J42: 0.288 | M42: 1
A43: LDNO HV: LV Sub Site Specific No Residual | B43: D40 | C43: 0 | D43: 6.308 | E43: 1.004 | F43: 0.116 | G43: 5.86 | H43: 7.75 | I43: 7.75 | J43: 0.263 | M43: 1
...

Sheet Annex 5 LLFs
A1: Back to Overview
A2: This table has intentionally been left blank. The line loss factors that are approved by the BSC Panel for the applicable year and consequently published on the Elexon website will take precedence and be used in Settlement. This annex will be re-published once these values are available.
A3: =Overview!B4& " - Illustrative LLFs for year beginning "&Overview!D4 -> Aidien Limited - GSP_D - Illustrative LLFs for year beginning 1 April 2027
A4: Time periods | B4: Period 1 | C4: Period 2 | D4: Period 3 | E4: Period 4
B5: (Name 1) | C5: (Name 2) | D5: (Name 3) | E5: (Name 4)
A6: Monday to Friday March to October | B6: 23:30 – 07:30 | C6: 07:30 – 23:30
A7: Monday to Friday November to February | B7: 23:30 – 07:30 | C7: 20:00 – 23:30 | D7: 07:30 – 16:00 19:00 – 20:00 | E7: 16:00 – 19:00
A8: Saturday and Sunday All Year | B8: 23:30 – 07:30 | C8: 07:30 – 23:30
A9: Notes | B9: All the above times are in UK Clock time
A12: Generic demand and generation LLFs
A13: Metered voltage, respective periods and associated LLFCs
A14: Metered voltage | B14: Period 1 | C14: Period 2 | D14: Period 3 | E14: Period 4 | F14: Associated LLFC / DUoS Tariff ID
A15: Low-voltage network
A16: Low-voltage substation
A17: High-voltage network
A18: High-voltage substation
A19: 33kV generic import
A20: 33kV generic export
A21: 132kV generic import
A22: 132kV generic export
A24: EHV site specific LLFs
A25: Demand
A26: Site | B26: Period 1 | C26: Period 2 | D26: Period 3 | E26: Period 4 | F26: Associated LLFC / DUoS Tariff ID
G27: =IF(F27>725,1,0) -> 0
G28: =IF(F28>725,1,0) -> 0
A31: EHV site specific LLFs
A32: Generation
A33: Site | B33: Period 1 | C33: Period 2 | D33: Period 3 | E33: Period 4 | F33: Associated LLFC

Sheet Annex 6 New or Amended EHV
A1: Back to Overview | H1: Note: The list of MPANs/MSIDs provided may be incomplete; the DNO reserves the right to apply the listed charges to any other MPANs/MSIDs associated with the site. If sites appear in both Annex 2 and Annex 6, the charges in Annex 6 take precedence. Where an existing Designated EHV Property is modified and energised in the charging year, we may revise the EDCM charges for the modified Designated EHV Property.
A2: Annex 6 - Charges for New or Amended Designated EHV Properties
A4: =Overview!B4& " - Effective from "&Overview!D4&" - "&Overview!E4&" new designated EHV charges" -> Aidien Limited - GSP_D - Effective from 1 April 2027 - Final new designated EHV charges
A5: Effective from date | B5: Import Unique Identifier | C5: LLFC / DUoS Tariff ID | D5: Import MPANs/MSIDs | E5: Export Unique Identifier | F5: LLFC / DUoS Tariff ID | G5: Export MPANs/MSIDs | H5: Name | I5: Residual Charging Band | J5: ='Annex 2 Designated EHV charges'!I10 -> Import Super Red unit charge (p/kWh) | K5: ='Annex 2 Designated EHV charges'!J10 -> Import fixed charge (p/day) | L5: ='Annex 2 Designated EHV charges'!K10 -> Import capacity charge (p/kVA/day) | M5: ='Annex 2 Designated EHV charges'!L10 -> Import exceeded capacity charge (p/kVA/day) | N5: ='Annex 2 Designated EHV charges'!M10 -> Export Super Red unit charge (p/kWh) | O5: ='Annex 2 Designated EHV charges'!N10 -> Export fixed charge (p/day) | P5: ='Annex 2 Designated EHV charges'!O10 -> Export capacity charge (p/kVA/day) | Q5: ='Annex 2 Designated EHV charges'!P10 -> Export exceeded capacity charge (p/kVA/day)
B6: EDCM Import 1 | E6: EDCM Export 1
B7: EDCM Import 2 | E7: EDCM Export 2
A9: =Overview!B4& " - Effective from "&Overview!D4&" - "&Overview!E4&" new designated EHV line loss factors" -> Aidien Limited - GSP_D - Effective from 1 April 2027 - Final new designated EHV line loss factors
A10: Effective from date | B10: Import Unique Identifier | C10: LLFC / DUoS Tariff ID | D10: Import MPANs/MSIDs | E10: Export Unique Identifier | F10: LLFC / DUoS Tariff ID | G10: Export MPANs/MSIDs | H10: Name | I10: Residual Charging Band | J10: Import LLF period 1 | K10: Import LLF period 2 | L10: Import LLF period 3 | M10: Import LLF period 4 | N10: Export LLF period 1 | O10: Export LLF period 2 | P10: Export LLF period 3 | Q10: Export LLF period 4
B11: EDCM Import 1 | E11: EDCM Export 1
B12: EDCM Import 2 | E12: EDCM Export 2

Sheet Annex 7 Pass-Through Costs
A1: Back to Overview
A2: =Overview!B4& " - Effective from "&Overview!D4&" - "&Overview!E4&" Supplier of Last Resort and Eligible Bad Debt Pass-Through Costs" -> Aidien Limited - GSP_D - Effective from 1 April 2027 - Final Supplier of Last Resort and Eligible Bad Debt Pass-Through Costs
A4: Tariff name | B4: Open LLFCs / LDNO unique billing identifier | C4: PCs | D4: Supplier of Last Resort Fixed charge adder* p/MPAN/day | E4: Eligible Bad Debt Fixed charge adder*** p/MPAN/day | G4: 1 | I4: =COUNTIF($G$5:$G$164,$J4) -> 26 | J4: 1
A5: Domestic Aggregated or CT | B5: =IFERROR(INDEX('Annex 1 LV, HV and UMS charges'!$B$13:$B$44,MATCH($A5,'Annex 1 LV, HV and UMS charges'!$A$13:$A$44,0)),IF(INDEX('Annex 4 LDNO charges'!$B$12:$B$202,MATCH($A5,'Annex 4 LDNO charges'!$A$12:$A$202,0))=0,"",INDEX('Annex 4 LDNO charges'!$B$12:$B$202,MATCH($A5,'Annex 4 LDNO charges'!$A$12:$A$202,0)))) -> #N/A | C5: 0, 1, 2 | D5: 0 | E5: 0 | G5: 1 | J5: 2
A6: Non-Domestic Aggregated or CT No Residual | B6: =IFERROR(INDEX('Annex 1 LV, HV and UMS charges'!$B$13:$B$44,MATCH($A6,'Annex 1 LV, HV and UMS charges'!$A$13:$A$44,0)),IF(INDEX('Annex 4 LDNO charges'!$B$12:$B$202,MATCH($A6,'Annex 4 LDNO charges'!$A$12:$A$202,0))=0,"",INDEX('Annex 4 LDNO charges'!$B$12:$B$202,MATCH($A6,'Annex 4 LDNO charges'!$A$12:$A$202,0)))) -> D07,D08,D09 | C6: 0, 3, 4, 5-8 | E6: 0 | G6: 1 | I6: =COUNTIF($G$5:$G$164,$J6) -> 35 | J6: 3
A7: Non-Domestic Aggregated or CT Band 1 | B7: =IFERROR(INDEX('Annex 1 LV, HV and UMS charges'!$B$13:$B$44,MATCH($A7,'Annex 1 LV, HV and UMS charges'!$A$13:$A$44,0)),IF(INDEX('Annex 4 LDNO charges'!$B$12:$B$202,MATCH($A7,'Annex 4 LDNO charges'!$A$12:$A$202,0))=0,"",INDEX('Annex 4 LDNO charges'!$B$12:$B$202,MATCH($A7,'Annex 4 LDNO charges'!$A$12:$A$202,0)))) -> D10,D11,D12 | C7: 0, 3, 4, 5-8 | E7: 0 | G7: 1 | I7: =COUNTIF($G$5:$G$164,$J7) -> 35 | J7: 4
A8: Non-Domestic Aggregated or CT Band 2 | B8: =IFERROR(INDEX('Annex 1 LV, HV and UMS charges'!$B$13:$B$44,MATCH($A8,'Annex 1 LV, HV and UMS charges'!$A$13:$A$44,0)),IF(INDEX('Annex 4 LDNO charges'!$B$12:$B$202,MATCH($A8,'Annex 4 LDNO charges'!$A$12:$A$202,0))=0,"",INDEX('Annex 4 LDNO charges'!$B$12:$B$202,MATCH($A8,'Annex 4 LDNO charges'!$A$12:$A$202,0)))) -> D13,D14,D15 | C8: 0, 3, 4, 5-8 | E8: 0 | G8: 1 | I8: =COUNTIF($G$5:$G$164,$J8) -> 29 | J8: 5
A9: Non-Domestic Aggregated or CT Band 3 | B9: =IFERROR(INDEX('Annex 1 LV, HV and UMS charges'!$B$13:$B$44,MATCH($A9,'Annex 1 LV, HV and UMS charges'!$A$13:$A$44,0)),IF(INDEX('Annex 4 LDNO charges'!$B$12:$B$202,MATCH($A9,'Annex 4 LDNO charges'!$A$12:$A$202,0))=0,"",INDEX('Annex 4 LDNO charges'!$B$12:$B$202,MATCH($A9,'Annex 4 LDNO charges'!$A$12:$A$202,0)))) -> D16,D17,D18 | C9: 0, 3, 4, 5-8 | E9: 0 | G9: 1
A10: Non-Domestic Aggregated or CT Band 4 | B10: =IFERROR(INDEX('Annex 1 LV, HV and UMS charges'!$B$13:$B$44,MATCH($A10,'Annex 1 LV, HV and UMS charges'!$A$13:$A$44,0)),IF(INDEX('Annex 4 LDNO charges'!$B$12:$B$202,MATCH($A10,'Annex 4 LDNO charges'!$A$12:$A$202,0))=0,"",INDEX('Annex 4 LDNO charges'!$B$12:$B$202,MATCH($A10,'Annex 4 LDNO charges'!$A$12:$A$202,0)))) -> D19,D20,D21 | C10: 0, 3, 4, 5-8 | E10: 0 | G10: 1
A11: LV Site Specific No Residual | B11: =IFERROR(INDEX('Annex 1 LV, HV and UMS charges'!$B$13:$B$44,MATCH($A11,'Annex 1 LV, HV and UMS charges'!$A$13:$A$44,0)),IF(INDEX('Annex 4 LDNO charges'!$B$12:$B$202,MATCH($A11,'Annex 4 LDNO charges'!$A$12:$A$202,0))=0,"",INDEX('Annex 4 LDNO charges'!$B$12:$B$202,MATCH($A11,'Annex 4 LDNO charges'!$A$12:$A$202,0)))) -> D25,D26,D27 | C11: 0 | E11: 0 | G11: 1
A12: LV Site Specific Band 1 | B12: =IFERROR(INDEX('Annex 1 LV, HV and UMS charges'!$B$13:$B$44,MATCH($A12,'Annex 1 LV, HV and UMS charges'!$A$13:$A$44,0)),IF(INDEX('Annex 4 LDNO charges'!$B$12:$B$202,MATCH($A12,'Annex 4 LDNO charges'!$A$12:$A$202,0))=0,"",INDEX('Annex 4 LDNO charges'!$B$12:$B$202,MATCH($A12,'Annex 4 LDNO charges'!$A$12:$A$202,0)))) -> D28,D29,D30 | C12: 0 | E12: 0 | G12: 1
A13: LV Site Specific Band 2 | B13: =IFERROR(INDEX('Annex 1 LV, HV and UMS charges'!$B$13:$B$44,MATCH($A13,'Annex 1 LV, HV and UMS charges'!$A$13:$A$44,0)),IF(INDEX('Annex 4 LDNO charges'!$B$12:$B$202,MATCH($A13,'Annex 4 LDNO charges'!$A$12:$A$202,0))=0,"",INDEX('Annex 4 LDNO charges'!$B$12:$B$202,MATCH($A13,'Annex 4 LDNO charges'!$A$12:$A$202,0)))) -> D31,D32,D33 | C13: 0 | E13: 0 | G13: 1
A14: LV Site Specific Band 3 | B14: =IFERROR(INDEX('Annex 1 LV, HV and UMS charges'!$B$13:$B$44,MATCH($A14,'Annex 1 LV, HV and UMS charges'!$A$13:$A$44,0)),IF(INDEX('Annex 4 LDNO charges'!$B$12:$B$202,MATCH($A14,'Annex 4 LDNO charges'!$A$12:$A$202,0))=0,"",INDEX('Annex 4 LDNO charges'!$B$12:$B$202,MATCH($A14,'Annex 4 LDNO charges'!$A$12:$A$202,0)))) -> D34,D35,D36 | C14: 0 | E14: 0 | G14: 1
A15: LV Site Specific Band 4 | B15: =IFERROR(INDEX('Annex 1 LV, HV and UMS charges'!$B$13:$B$44,MATCH($A15,'Annex 1 LV, HV and UMS charges'!$A$13:$A$44,0)),IF(INDEX('Annex 4 LDNO charges'!$B$12:$B$202,MATCH($A15,'Annex 4 LDNO charges'!$A$12:$A$202,0))=0,"",INDEX('Annex 4 LDNO charges'!$B$12:$B$202,MATCH($A15,'Annex 4 LDNO charges'!$A$12:$A$202,0)))) -> D37,D38,D39 | C15: 0 | E15: 0 | G15: 1
A16: LV Sub Site Specific No Residual | B16: =IFERROR(INDEX('Annex 1 LV, HV and UMS charges'!$B$13:$B$44,MATCH($A16,'Annex 1 LV, HV and UMS charges'!$A$13:$A$44,0)),IF(INDEX('Annex 4 LDNO charges'!$B$12:$B$202,MATCH($A16,'Annex 4 LDNO charges'!$A$12:$A$202,0))=0,"",INDEX('Annex 4 LDNO charges'!$B$12:$B$202,MATCH($A16,'Annex 4 LDNO charges'!$A$12:$A$202,0)))) -> D40,D41 | C16: 0 | E16: 0 | G16: 1
A17: LV Sub Site Specific Band 1 | B17: =IFERROR(INDEX('Annex 1 LV, HV and UMS charges'!$B$13:$B$44,MATCH($A17,'Annex 1 LV, HV and UMS charges'!$A$13:$A$44,0)),IF(INDEX('Annex 4 LDNO charges'!$B$12:$B$202,MATCH($A17,'Annex 4 LDNO charges'!$A$12:$A$202,0))=0,"",INDEX('Annex 4 LDNO charges'!$B$12:$B$202,MATCH($A17,'Annex 4 LDNO charges'!$A$12:$A$202,0)))) -> D42,D43 | C17: 0 | E17: 0 | G17: 1
A18: LV Sub Site Specific Band 2 | B18: =IFERROR(INDEX('Annex 1 LV, HV and UMS charges'!$B$13:$B$44,MATCH($A18,'Annex 1 LV, HV and UMS charges'!$A$13:$A$44,0)),IF(INDEX('Annex 4 LDNO charges'!$B$12:$B$202,MATCH($A18,'Annex 4 LDNO charges'!$A$12:$A$202,0))=0,"",INDEX('Annex 4 LDNO charges'!$B$12:$B$202,MATCH($A18,'Annex 4 LDNO charges'!$A$12:$A$202,0)))) -> D44,D45 | C18: 0 | E18: 0 | G18: 1
A19: LV Sub Site Specific Band 3 | B19: =IFERROR(INDEX('Annex 1 LV, HV and UMS charges'!$B$13:$B$44,MATCH($A19,'Annex 1 LV, HV and UMS charges'!$A$13:$A$44,0)),IF(INDEX('Annex 4 LDNO charges'!$B$12:$B$202,MATCH($A19,'Annex 4 LDNO charges'!$A$12:$A$202,0))=0,"",INDEX('Annex 4 LDNO charges'!$B$12:$B$202,MATCH($A19,'Annex 4 LDNO charges'!$A$12:$A$202,0)))) -> D46,D47 | C19: 0 | E19: 0 | G19: 1
A20: LV Sub Site Specific Band 4 | B20: =IFERROR(INDEX('Annex 1 LV, HV and UMS charges'!$B$13:$B$44,MATCH($A20,'Annex 1 LV, HV and UMS charges'!$A$13:$A$44,0)),IF(INDEX('Annex 4 LDNO charges'!$B$12:$B$202,MATCH($A20,'Annex 4 LDNO charges'!$A$12:$A$202,0))=0,"",INDEX('Annex 4 LDNO charges'!$B$12:$B$202,MATCH($A20,'Annex 4 LDNO charges'!$A$12:$A$202,0)))) -> D48,D49 | C20: 0 | E20: 0 | G20: 1
A21: HV Site Specific No Residual | B21: =IFERROR(INDEX('Annex 1 LV, HV and UMS charges'!$B$13:$B$44,MATCH($A21,'Annex 1 LV, HV and UMS charges'!$A$13:$A$44,0)),IF(INDEX('Annex 4 LDNO charges'!$B$12:$B$202,MATCH($A21,'Annex 4 LDNO charges'!$A$12:$A$202,0))=0,"",INDEX('Annex 4 LDNO charges'!$B$12:$B$202,MATCH($A21,'Annex 4 LDNO charges'!$A$12:$A$202,0)))) -> D50,D51 | C21: 0 | E21: 0 | G21: 1
A22: HV Site Specific Band 1 | B22: =IFERROR(INDEX('Annex 1 LV, HV and UMS charges'!$B$13:$B$44,MATCH($A22,'Annex 1 LV, HV and UMS charges'!$A$13:$A$44,0)),IF(INDEX('Annex 4 LDNO charges'!$B$12:$B$202,MATCH($A22,'Annex 4 LDNO charges'!$A$12:$A$202,0))=0,"",INDEX('Annex 4 LDNO charges'!$B$12:$B$202,MATCH($A22,'Annex 4 LDNO charges'!$A$12:$A$202,0)))) -> D52,D53 | C22: 0 | E22: 0 | G22: 1
... A25: HV Site Specific Band 4 | B25: =IFERROR(INDEX('Annex 1 LV, HV and UMS charges'!$B$13:$B$44,MATCH($A25,'Annex 1 LV, HV and UMS charges'!$A$13:$A$44,0)),IF(INDEX('Annex 4 LDNO charges'!$B$12:$B$202,MATCH($A25,'Annex 4 LDNO charges'!$A$12:$A$202,0))=0,"",INDEX('Annex 4 LDNO charges'!$B$12:$B$202,MATCH($A25,'Annex 4 LDNO charges'!$A$12:$A$202,0)))) -> D58,D59 | C25: 0 | E25: 0 | G25: 1
A26: LDNO LV: Domestic Aggregated or CT | B26: =IFERROR(INDEX('Annex 1 LV, HV and UMS charges'!$B$13:$B$44,MATCH($A26,'Annex 1 LV, HV and UMS charges'!$A$13:$A$44,0)),IF(INDEX('Annex 4 LDNO charges'!$B$12:$B$202,MATCH($A26,'Annex 4 LDNO charges'!$A$12:$A$202,0))=0,"",INDEX('Annex 4 LDNO charges'!$B$12:$B$202,MATCH($A26,'Annex 4 LDNO charges'!$A$12:$A$202,0)))) -> #N/A | C26: 0, 1, 2 | D26: 0 | E26: 0 | G26: 1
A27: LDNO LV: Non-Domestic Aggregated or CT No Residual | B27: =IFERROR(INDEX('Annex 1 LV, HV and UMS charges'!$B$13:$B$44,MATCH($A27,'Annex 1 LV, HV and UMS charges'!$A$13:$A$44,0)),IF(INDEX('Annex 4 LDNO charges'!$B$12:$B$202,MATCH($A27,'Annex 4 LDNO charges'!$A$12:$A$202,0))=0,"",INDEX('Annex 4 LDNO charges'!$B$12:$B$202,MATCH($A27,'Annex 4 LDNO charges'!$A$12:$A$202,0)))) -> D07 | C27: 0, 3, 4, 5-8 | E27: 0 | G27: 1
A28: LDNO LV: Non-Domestic Aggregated or CT Band 1 | B28: =IFERROR(INDEX('Annex 1 LV, HV and UMS charges'!$B$13:$B$44,MATCH($A28,'Annex 1 LV, HV and UMS charges'!$A$13:$A$44,0)),IF(INDEX('Annex 4 LDNO charges'!$B$12:$B$202,MATCH($A28,'Annex 4 LDNO charges'!$A$12:$A$202,0))=0,"",INDEX('Annex 4 LDNO charges'!$B$12:$B$202,MATCH($A28,'Annex 4 LDNO charges'!$A$12:$A$202,0)))) -> D10 | C28: 0, 3, 4, 5-8 | E28: 0 | G28: 1
A29: LDNO LV: Non-Domestic Aggregated or CT Band 2 | B29: =IFERROR(INDEX('Annex 1 LV, HV and UMS charges'!$B$13:$B$44,MATCH($A29,'Annex 1 LV, HV and UMS charges'!$A$13:$A$44,0)),IF(INDEX('Annex 4 LDNO charges'!$B$12:$B$202,MATCH($A29,'Annex 4 LDNO charges'!$A$12:$A$202,0))=0,"",INDEX('Annex 4 LDNO charges'!$B$12:$B$202,MATCH($A29,'Annex 4 LDNO charges'!$A$12:$A$202,0)))) -> D13 | C29: 0, 3, 4, 5-8 | E29: 0 | G29: 1
A30: LDNO LV: Non-Domestic Aggregated or CT Band 3 | B30: =IFERROR(INDEX('Annex 1 LV, HV and UMS charges'!$B$13:$B$44,MATCH($A30,'Annex 1 LV, HV and UMS charges'!$A$13:$A$44,0)),IF(INDEX('Annex 4 LDNO charges'!$B$12:$B$202,MATCH($A30,'Annex 4 LDNO charges'!$A$12:$A$202,0))=0,"",INDEX('Annex 4 LDNO charges'!$B$12:$B$202,MATCH($A30,'Annex 4 LDNO charges'!$A$12:$A$202,0)))) -> D16 | C30: 0, 3, 4, 5-8 | E30: 0 | G30: 1
A31: LDNO LV: Non-Domestic Aggregated or CT Band 4 | B31: =IFERROR(INDEX('Annex 1 LV, HV and UMS charges'!$B$13:$B$44,MATCH($A31,'Annex 1 LV, HV and UMS charges'!$A$13:$A$44,0)),IF(INDEX('Annex 4 LDNO charges'!$B$12:$B$202,MATCH($A31,'Annex 4 LDNO charges'!$A$12:$A$202,0))=0,"",INDEX('Annex 4 LDNO charges'!$B$12:$B$202,MATCH($A31,'Annex 4 LDNO charges'!$A$12:$A$202,0)))) -> D19 | C31: 0, 3, 4, 5-8 | E31: 0 | G31: 2
A32: LDNO LV: LV Site Specific No Residual | B32: =IFERROR(INDEX('Annex 1 LV, HV and UMS charges'!$B$13:$B$44,MATCH($A32,'Annex 1 LV, HV and UMS charges'!$A$13:$A$44,0)),IF(INDEX('Annex 4 LDNO charges'!$B$12:$B$202,MATCH($A32,'Annex 4 LDNO charges'!$A$12:$A$202,0))=0,"",INDEX('Annex 4 LDNO charges'!$B$12:$B$202,MATCH($A32,'Annex 4 LDNO charges'!$A$12:$A$202,0)))) -> D25 | C32: 0 | E32: 0 | G32: 2
A33: LDNO LV: LV Site Specific Band 1 | B33: =IFERROR(INDEX('Annex 1 LV, HV and UMS charges'!$B$13:$B$44,MATCH($A33,'Annex 1 LV, HV and UMS charges'!$A$13:$A$44,0)),IF(INDEX('Annex 4 LDNO charges'!$B$12:$B$202,MATCH($A33,'Annex 4 LDNO charges'!$A$12:$A$202,0))=0,"",INDEX('Annex 4 LDNO charges'!$B$12:$B$202,MATCH($A33,'Annex 4 LDNO charges'!$A$12:$A$202,0)))) -> D28 | C33: 0 | E33: 0 | G33: 2
A34: LDNO LV: LV Site Specific Band 2 | B34: =IFERROR(INDEX('Annex 1 LV, HV and UMS charges'!$B$13:$B$44,MATCH($A34,'Annex 1 LV, HV and UMS charges'!$A$13:$A$44,0)),IF(INDEX('Annex 4 LDNO charges'!$B$12:$B$202,MATCH($A34,'Annex 4 LDNO charges'!$A$12:$A$202,0))=0,"",INDEX('Annex 4 LDNO charges'!$B$12:$B$202,MATCH($A34,'Annex 4 LDNO charges'!$A$12:$A$202,0)))) -> D31 | C34: 0 | E34: 0 | G34: 2
A35: LDNO LV: LV Site Specific Band 3 | B35: =IFERROR(INDEX('Annex 1 LV, HV and UMS charges'!$B$13:$B$44,MATCH($A35,'Annex 1 LV, HV and UMS charges'!$A$13:$A$44,0)),IF(INDEX('Annex 4 LDNO charges'!$B$12:$B$202,MATCH($A35,'Annex 4 LDNO charges'!$A$12:$A$202,0))=0,"",INDEX('Annex 4 LDNO charges'!$B$12:$B$202,MATCH($A35,'Annex 4 LDNO charges'!$A$12:$A$202,0)))) -> D34 | C35: 0 | E35: 0 | G35: 2
A36: LDNO LV: LV Site Specific Band 4 | B36: =IFERROR(INDEX('Annex 1 LV, HV and UMS charges'!$B$13:$B$44,MATCH($A36,'Annex 1 LV, HV and UMS charges'!$A$13:$A$44,0)),IF(INDEX('Annex 4 LDNO charges'!$B$12:$B$202,MATCH($A36,'Annex 4 LDNO charges'!$A$12:$A$202,0))=0,"",INDEX('Annex 4 LDNO charges'!$B$12:$B$202,MATCH($A36,'Annex 4 LDNO charges'!$A$12:$A$202,0)))) -> D37 | C36: 0 | E36: 0 | G36: 2
A37: LDNO HV: Domestic Aggregated or CT | B37: =IFERROR(INDEX('Annex 1 LV, HV and UMS charges'!$B$13:$B$44,MATCH($A37,'Annex 1 LV, HV and UMS charges'!$A$13:$A$44,0)),IF(INDEX('Annex 4 LDNO charges'!$B$12:$B$202,MATCH($A37,'Annex 4 LDNO charges'!$A$12:$A$202,0))=0,"",INDEX('Annex 4 LDNO charges'!$B$12:$B$202,MATCH($A37,'Annex 4 LDNO charges'!$A$12:$A$202,0)))) -> #N/A | C37: 0, 1, 2 | D37: 0 | E37: 0 | G37: 2
A38: LDNO HV: Non-Domestic Aggregated or CT No Residual | B38: =IFERROR(INDEX('Annex 1 LV, HV and UMS charges'!$B$13:$B$44,MATCH($A38,'Annex 1 LV, HV and UMS charges'!$A$13:$A$44,0)),IF(INDEX('Annex 4 LDNO charges'!$B$12:$B$202,MATCH($A38,'Annex 4 LDNO charges'!$A$12:$A$202,0))=0,"",INDEX('Annex 4 LDNO charges'!$B$12:$B$202,MATCH($A38,'Annex 4 LDNO charges'!$A$12:$A$202,0)))) -> D08 | C38: 0, 3, 4, 5-8 | E38: 0 | G38: 2
A39: LDNO HV: Non-Domestic Aggregated or CT Band 1 | B39: =IFERROR(INDEX('Annex 1 LV, HV and UMS charges'!$B$13:$B$44,MATCH($A39,'Annex 1 LV, HV and UMS charges'!$A$13:$A$44,0)),IF(INDEX('Annex 4 LDNO charges'!$B$12:$B$202,MATCH($A39,'Annex 4 LDNO charges'!$A$12:$A$202,0))=0,"",INDEX('Annex 4 LDNO charges'!$B$12:$B$202,MATCH($A39,'Annex 4 LDNO charges'!$A$12:$A$202,0)))) -> D11 | C39: 0, 3, 4, 5-8 | E39: 0 | G39: 2
A40: LDNO HV: Non-Domestic Aggregated or CT Band 2 | B40: =IFERROR(INDEX('Annex 1 LV, HV and UMS charges'!$B$13:$B$44,MATCH($A40,'Annex 1 LV, HV and UMS charges'!$A$13:$A$44,0)),IF(INDEX('Annex 4 LDNO charges'!$B$12:$B$202,MATCH($A40,'Annex 4 LDNO charges'!$A$12:$A$202,0))=0,"",INDEX('Annex 4 LDNO charges'!$B$12:$B$202,MATCH($A40,'Annex 4 LDNO charges'!$A$12:$A$202,0)))) -> D14 | C40: 0, 3, 4, 5-8 | E40: 0 | G40: 2
A41: LDNO HV: Non-Domestic Aggregated or CT Band 3 | B41: =IFERROR(INDEX('Annex 1 LV, HV and UMS charges'!$B$13:$B$44,MATCH($A41,'Annex 1 LV, HV and UMS charges'!$A$13:$A$44,0)),IF(INDEX('Annex 4 LDNO charges'!$B$12:$B$202,MATCH($A41,'Annex 4 LDNO charges'!$A$12:$A$202,0))=0,"",INDEX('Annex 4 LDNO charges'!$B$12:$B$202,MATCH($A41,'Annex 4 LDNO charges'!$A$12:$A$202,0)))) -> D17 | C41: 0, 3, 4, 5-8 | E41: 0 | G41: 2
A42: LDNO HV: Non-Domestic Aggregated or CT Band 4 | B42: =IFERROR(INDEX('Annex 1 LV, HV and UMS charges'!$B$13:$B$44,MATCH($A42,'Annex 1 LV, HV and UMS charges'!$A$13:$A$44,0)),IF(INDEX('Annex 4 LDNO charges'!$B$12:$B$202,MATCH($A42,'Annex 4 LDNO charges'!$A$12:$A$202,0))=0,"",INDEX('Annex 4 LDNO charges'!$B$12:$B$202,MATCH($A42,'Annex 4 LDNO charges'!$A$12:$A$202,0)))) -> D20 | C42: 0, 3, 4, 5-8 | E42: 0 | G42: 2
A43: LDNO HV: LV Site Specific No Residual | B43: =IFERROR(INDEX('Annex 1 LV, HV and UMS charges'!$B$13:$B$44,MATCH($A43,'Annex 1 LV, HV and UMS charges'!$A$13:$A$44,0)),IF(INDEX('Annex 4 LDNO charges'!$B$12:$B$202,MATCH($A43,'Annex 4 LDNO charges'!$A$12:$A$202,0))=0,"",INDEX('Annex 4 LDNO charges'!$B$12:$B$202,MATCH($A43,'Annex 4 LDNO charges'!$A$12:$A$202,0)))) -> D26 | C43: 0 | E43: 0 | G43: 2
...

Sheet Nodal prices
A1: Back to Overview
A2: =Overview!B4& " - Effective from "&Overview!D4&" - "&Overview!E4&" Nodal/Zonal charges" -> Aidien Limited - GSP_D - Effective from 1 April 2027 - Final Nodal/Zonal charges
A3: Node/Zone ID | B3: Geographical name | C3: Local charge 1 £/kVA | D3: Remote charge 1 £/kVA

Sheet SSC unit rate lookup
A1: Back to Overview
A28: Standard Settlement Configuration Id | B28: Standard Settlement Configuration Desc | C28: Common Decode | F28: Change implemented | G28: Date | H28: Comments
A29: 3 | B29: 10-hour OP | C29: A/R | F29: Notes updated | G29: 43626 | H29: Updated to reflect DCP 268 which delinks all tariffs from the TPR bands
A30: 4 | B30: 10-hour OP | C30: A/R | F30: Code 1 & 2 changed to A | G30: 43626 | H30: Updated to reflect DCP 268 which delinks all tariffs from the TPR bands
A31: 5 | B31: 10-hour OP + w/e | C31: A/R | F31: Code O changed to A/R | G31: 43626 | H31: Updated to reflect DCP 268 which delinks all tariffs from the TPR bands
A32: 6 | B32: 10.5-hour OP | C32: A/R | F32: Removed TPR | G32: 43626 | H32: Removed TPR lookup element as this no longer effects which rate to apply
A33: 7 | B33: 10.5-hour OP | C33: A/R
A34: 8 | B34: 10.5-hour OP | C34: A/R
A35: 9 | B35: 10.5-hour OP | C35: A/R
A36: 10 | B36: 10.5-hour OP | C36: A/R
A37: 11 | B37: 10.5-hour OP | C37: A/R
A38: 12 | B38: 10.5-hour OP | C38: A/R
A39: 13 | B39: 11 Hour OP | C39: A/R
A40: 15 | B40: 11 Hour OP | C40: A/R
A41: 16 | B41: 11.5-hour OP | C41: A/R
A42: 17 | B42: 11.5-hour OP | C42: A/R
A43: 18 | B43: 11.5-hour OP | C43: A/R
A44: 19 | B44: 11.5-hour OP | C44: A/R
... A764: 997 | B764: Evening/Weekend - BST | C764: A

Sheet Residual Charging Bands
A1: Back to Overview
A2: =Overview!B4& " - Effective from "&Overview!C4&" - "&Overview!E4&" Residual Charging Bands" -> Aidien Limited - GSP_D - Effective from 2027/28 - Final Residual Charging Bands
A4: Voltage of Connection | B4: Band | C4: Units | D4: Lower Threshold* | E4: Upper Threshold* | F4: Residual Charge per MPAN (£)
A5: Domestic Aggregated | B5: Single band | C5: - | D5: - | E5: - | F5: 70.267095
A6: Designated Properties connected at LV, billing with no MIC | B6: 1 | C6: kWh | D6: 0 | E6: 3986 | F6: 87.9212
B7: 2 | C7: kWh | D7: 3986 | E7: 13677 | F7: 173.99748
B8: 3 | C8: kWh | D8: 13677 | E8: 27543 | F8: 366.8892
B9: 4 | C9: kWh | D9: 27543 | E9: ∞ | F9: 1062.397
A10: Designated Properties connected at LV, billing with MIC | B10: 1 | C10: kVA | D10: 0 | E10: 90 | F10: 2051.7502
B11: 2 | C11: kVA | D11: 90 | E11: 150 | F11: 3873.8444
B12: 3 | C12: kVA | D12: 150 | E12: 250 | F12: 6140.3234
B13: 4 | C13: kVA | D13: 250 | E13: ∞ | F13: 14134.786
A14: Designated Properties connected at HV | B14: 1 | C14: kVA | D14: 0 | E14: 500 | F14: 11130.231
B15: 2 | C15: kVA | D15: 500 | E15: 1100 | F15: 33841.939
B16: 3 | C16: kVA | D16: 1100 | E16: 2000 | F16: 74703.538
B17: 4 | C17: kVA | D17: 2000 | E17: ∞ | F17: 143498.48
A18: Designated EHV Properties | B18: 1 | C18: kVA | D18: 0 | E18: 3500 | F18: 56182.256
B19: 2 | C19: kVA | D19: 3500 | E19: 11000 | F19: 154882.54
B20: 3 | C20: kVA | D20: 11000 | E20: 20000 | F20: 390728.57
B21: 4 | C21: kVA | D21: 20000 | E21: ∞ | F21: 838185.78
A22: * All boundaries are inclusive of the upper threshold and exclusive of the lower threshold i.e. Lower < x ≤ Upper.

Sheet TNUoS Mapping
A1: Back to Overview
A2: =Overview!C4&" - Effective from "&Overview!D4&" - "&Overview!F4&" TNUoS Mapping" -> 2027/28 - Effective from 1 April 2027 - TNUoS Mapping
A3: DUoS Tariff name | B3: TNUoS Site Charging Band
A4: Domestic Aggregated or CT with Residual | B4: Domestic
A5: Domestic Aggregated (Related MPAN) | B5: n/a (Non-Final Demand Site)
A6: Non-Domestic Aggregated or CT No Residual | B6: =$B$5 -> n/a (Non-Final Demand Site)
A7: Non-Domestic Aggregated or CT Band 1 | B7: LV_NoMIC_1
A8: Non-Domestic Aggregated or CT Band 2 | B8: LV_NoMIC_2
A9: Non-Domestic Aggregated or CT Band 3 | B9: LV_NoMIC_3
A10: Non-Domestic Aggregated or CT Band 4 | B10: LV_NoMIC_4
A11: Non-Domestic Aggregated (related MPAN) | B11: =$B$5 -> n/a (Non-Final Demand Site)
A12: LV Site Specific No Residual | B12: =$B$5 -> n/a (Non-Final Demand Site)
A13: LV Site Specific Band 1 | B13: LV1
A14: LV Site Specific Band 2 | B14: LV2
A15: LV Site Specific Band 3 | B15: LV3
A16: LV Site Specific Band 4 | B16: LV4
A17: LV Sub Site Specific No Residual | B17: =$B$5 -> n/a (Non-Final Demand Site)
A18: LV Sub Site Specific Band 1 | B18: LV1
A19: LV Sub Site Specific Band 2 | B19: LV2
A20: LV Sub Site Specific Band 3 | B20: LV3
A21: LV Sub Site Specific Band 4 | B21: LV4
A22: HV Site Specific No Residual | B22: =$B$5 -> n/a (Non-Final Demand Site)
A23: HV Site Specific Band 1 | B23: HV1
A24: HV Site Specific Band 2 | B24: HV2
A25: HV Site Specific Band 3 | B25: HV3
A26: HV Site Specific Band 4 | B26: HV4
A27: Unmetered Supplies | B27: n/a (p/kWh charge)
A28: LV Generation Aggregated | B28: =$B$5 -> n/a (Non-Final Demand Site)
A29: LV Sub Generation Aggregated | B29: =$B$5 -> n/a (Non-Final Demand Site)
A30: LV Generation Site Specific | B30: =$B$5 -> n/a (Non-Final Demand Site)
A31: LV Generation Site Specific no RP charge | B31: =$B$5 -> n/a (Non-Final Demand Site)
A32: LV Sub Generation Site Specific | B32: =$B$5 -> n/a (Non-Final Demand Site)
A33: LV Sub Generation Site Specific no RP charge | B33: =$B$5 -> n/a (Non-Final Demand Site)
A34: HV Generation Site Specific | B34: =$B$5 -> n/a (Non-Final Demand Site)
A35: HV Generation Site Specific no RP charge | B35: =$B$5 -> n/a (Non-Final Demand Site)
A36: Designated EHV Site Specific No Residual | B36: =$B$5 -> n/a (Non-Final Demand Site)
A37: Designated EHV Site Specific Band 1 | B37: EHV1
A38: Designated EHV Site Specific Band 2 | B38: EHV2
A39: Designated EHV Site Specific Band 3 | B39: EHV3
A40: Designated EHV Site Specific Band 4 | B40: EHV4

Sheet Charge Calculator
B1: Back to Overview
B2: =Overview!B4& " - Effective from "&Overview!D4&" - "&Overview!E4 -> Aidien Limited - GSP_D - Effective from 1 April 2027 - Final | AC2: Red/black unit charge p/kWh | AD2: Amber/yellow unit charge p/kWh | AE2: Green unit charge p/kWh | AF2: Fixed charge p/MPAN/day | AG2: Capacity charge p/kVA/day | AH2: Exceeded capacity charge p/kVA/day | AI2: Reactive power charge p/kVArh
AB3: Domestic Aggregated | AC3: Red unit charge p/kWh | AD3: Amber unit charge p/kWh | AE3: Green unit charge p/kWh | AF3: Fixed charge p/MPAN/day | AG3: n/a | AH3: n/a | AI3: n/a
B4: LV and HV designated properties and Unmetered Supplies tariff calculator | L4: EHV designated property calculator | AB4: Domestic Aggregated (related MPAN) | AC4: Red unit charge p/kWh | AD4: Amber unit charge p/kWh | AE4: Green unit charge p/kWh | AF4: n/a | AG4: n/a | AH4: n/a | AI4: n/a
B5: Step 1, Choose your tariff using the drop down list in cell B10 | L5: Step 1, Choose your tariff using the drop down list in cell L10 | AB5: Non-Domestic Aggregated | AC5: Red unit charge p/kWh | AD5: Amber unit charge p/kWh | AE5: Green unit charge p/kWh | AF5: Fixed charge p/MPAN/day | AG5: n/a | AH5: n/a | AI5: n/a
B6: Step 2, After selecting a tariff in step 1, Cells C12-I12 will generate headings, please enter your consumption in cells C13:I13 underneath each heading generated (if no heading leave cell blank) | L6: Step 2, After selecting a tariff in step 1, Cells M12-T12 will generate headings, please enter your consumption in cells M13:T13 underneath each heading generated (if no heading leave cell blank) | AB6: Non-Domestic Aggregated (related MPAN) | AC6: Red unit charge p/kWh | AD6: Amber unit charge p/kWh | AE6: Green unit charge p/kWh | AF6: n/a | AG6: n/a | AH6: n/a | AI6: n/a
B7: Step 3, Enter a forecast of consumption if required in cells C14:I14 | L7: Step 3, Enter a forecast of consumption if required in cells M14:T14 | AB7: LV Site Specific | AC7: Red unit charge p/kWh | AD7: Amber unit charge p/kWh | AE7: Green unit charge p/kWh | AF7: Fixed charge p/MPAN/day | AG7: Capacity charge p/kVA/day | AH7: Exceeded Capacity charge p/kVA/day | AI7: Reactive power charge p/kVArh
AB8: LV Sub Site Specific | AC8: Red unit charge p/kWh | AD8: Amber unit charge p/kWh | AE8: Green unit charge p/kWh | AF8: Fixed charge p/MPAN/day | AG8: Capacity charge p/kVA/day | AH8: Exceeded Capacity charge p/kVA/day | AI8: Reactive power charge p/kVArh
B9: Tariff details Choose tariff name from drop down box below | C9: =IFERROR(VLOOKUP($B$10,$AB$2:$AI$18,2,FALSE),AC2) -> Red unit charge p/kWh | D9: =IFERROR(VLOOKUP($B$10,$AB$2:$AI$18,3,FALSE),AD2) -> Amber unit charge p/kWh | E9: =IFERROR(VLOOKUP($B$10,$AB$2:$AI$18,4,FALSE),AE2) -> Green unit charge p/kWh | F9: =IFERROR(VLOOKUP($B$10,$AB$2:$AI$18,5,FALSE),AF2) -> Fixed charge p/MPAN/day | G9: =IFERROR(VLOOKUP($B$10,$AB$2:$AI$18,6,FALSE),AG2) -> Capacity charge p/kVA/day | H9: =IFERROR(VLOOKUP($B$10,$AB$2:$AI$18,7,FALSE),AH2) -> Exceeded Capacity charge p/kVA/day | I9: =IFERROR(VLOOKUP($B$10,$AB$2:$AI$18,8,FALSE),AI2) -> Reactive power charge p/kVArh | L9: Site details Choose the site name from the drop down box below | M9: ='Annex 2 Designated EHV charges'!I10 -> Import Super Red unit charge (p/kWh) | N9: ='Annex 2 Designated EHV charges'!J10 -> Import fixed charge (p/day) | O9: ='Annex 2 Designated EHV charges'!K10 -> Import capacity charge (p/kVA/day) | P9: ='Annex 2 Designated EHV charges'!L10 -> Import exceeded capacity charge (p/kVA/day) | Q9: ='Annex 2 Designated EHV charges'!M10 -> Export Super Red unit charge (p/kWh) | R9: ='Annex 2 Designated EHV charges'!N10 -> Export fixed charge (p/day) | S9: ='Annex 2 Designated EHV charges'!O10 -> Export capacity charge (p/kVA/day) | T9: ='Annex 2 Designated EHV charges'!P10 -> Export exceeded capacity charge (p/kVA/day) | AB9: HV Site Specific | AC9: Red unit charge p/kWh | AD9: Amber unit charge p/kWh | AE9: Green unit charge p/kWh | AF9: Fixed charge p/MPAN/day | AG9: Capacity charge p/kVA/day | AH9: Exceeded Capacity charge p/kVA/day | AI9: Reactive power charge p/kVArh
B10: LV Site Specific | C10: =IFERROR(VLOOKUP($B$10,'Annex 1 LV, HV and UMS charges'!$A:$K,4,FALSE),"") | D10: =IFERROR(VLOOKUP($B$10,'Annex 1 LV, HV and UMS charges'!$A:$K,5,FALSE),"") | E10: =IFERROR(VLOOKUP($B$10,'Annex 1 LV, HV and UMS charges'!$A:$K,6,FALSE),"") | F10: =IFERROR(VLOOKUP($B$10,'Annex 1 LV, HV and UMS charges'!$A:$K,7,FALSE),"") | G10: =IFERROR(VLOOKUP($B$10,'Annex 1 LV, HV and UMS charges'!$A:$K,8,FALSE),"") | H10: =IFERROR(VLOOKUP($B$10,'Annex 1 LV, HV and UMS charges'!$A:$K,9,FALSE),"") | I10: =IFERROR(VLOOKUP($B$10,'Annex 1 LV, HV and UMS charges'!$A:$K,10,FALSE),"") | M10: =IFERROR(VLOOKUP($L$10,'Annex 2 Designated EHV charges'!$G:$O,3,FALSE),"") | N10: =IFERROR(VLOOKUP($L$10,'Annex 2 Designated EHV charges'!$G:$O,4,FALSE),"") | O10: =IFERROR(VLOOKUP($L$10,'Annex 2 Designated EHV charges'!$G:$O,5,FALSE),"") | P10: =IFERROR(VLOOKUP($L$10,'Annex 2 Designated EHV charges'!$G:$O,6,FALSE),"") | Q10: =IFERROR(VLOOKUP($L$10,'Annex 2 Designated EHV charges'!$G:$O,7,FALSE),"") | R10: =IFERROR(VLOOKUP($L$10,'Annex 2 Designated EHV charges'!$G:$O,8,FALSE),"") | S10: =IFERROR(VLOOKUP($L$10,'Annex 2 Designated EHV charges'!$G:$O,9,FALSE),"") | T10: =IFERROR(VLOOKUP($L$10,'Annex 2 Designated EHV charges'!$G:$P,10,FALSE),"") | AB10: Unmetered Supplies | AC10: Black unit charge p/kWh | AD10: Yellow unit charge p/kWh | AE10: Green unit charge p/kWh | AF10: n/a | AG10: n/a | AH10: n/a | AI10: n/a
AB11: LV Generation Aggregated | AC11: Red unit charge p/kWh | AD11: Amber unit charge p/kWh | AE11: Green unit charge p/kWh | AF11: Fixed charge p/MPAN/day | AG11: n/a | AH11: n/a | AI11: n/a
B12: Tariff components | C12: =C9 -> Red unit charge p/kWh | D12: =D9 -> Amber unit charge p/kWh | E12: =E9 -> Green unit charge p/kWh | F12: Number of days in consumption period i.e. 365 if one year | G12: Maximum import or export capacity kVA | H12: Average daily exceeded capacity kVA | I12: Excess reactive units kVArh | L12: Tariff components | M12: Import super red kWh | N12: Number of days in consumption period i.e. 365 if one year | O12: Maximum import capacity kVA | P12: Average daily exceeded capacity kVA | Q12: Export Super Red kWh | R12: Number of days in consumption period i.e. 365 if one year | S12: Maximum export capacity kVA | T12: Average daily exceeded capacity kVA | AB12: LV Sub Generation Aggregated | AC12: Red unit charge p/kWh | AD12: Amber unit charge p/kWh | AE12: Green unit charge p/kWh | AF12: Fixed charge p/MPAN/day | AG12: n/a | AH12: n/a | AI12: n/a
B13: Enter current consumption details | L13: Enter current consumption details | R13: =N13 -> 0 | AB13: LV Generation Site Specific | AC13: Red unit charge p/kWh | AD13: Amber unit charge p/kWh | AE13: Green unit charge p/kWh | AF13: Fixed charge p/MPAN/day | AG13: n/a | AH13: n/a | AI13: Reactive power charge p/kVArh
B14: Enter forecast consumption details (if different) | C14: =C13 -> 0 | D14: =D13 -> 0 | E14: =E13 -> 0 | F14: =F13 -> 0 | G14: =G13 -> 0 | H14: =H13 -> 0 | I14: =I13 -> 0 | L14: Enter forecast consumption details (if different) | M14: =M13 -> 0 | N14: =N13 -> 0 | O14: =O13 -> 0 | P14: =P13 -> 0 | Q14: =Q13 -> 0 | R14: =R13 -> 0 | S14: =S13 -> 0 | T14: =T13 -> 0 | AB14: LV Generation Site Specific no RP charge | AC14: Red unit charge p/kWh | AD14: Amber unit charge p/kWh | AE14: Green unit charge p/kWh | AF14: Fixed charge p/MPAN/day | AG14: n/a | AH14: n/a | AI14: n/a
AB15: LV Sub Generation Site Specific | AC15: Red unit charge p/kWh | AD15: Amber unit charge p/kWh | AE15: Green unit charge p/kWh | AF15: Fixed charge p/MPAN/day | AG15: n/a | AH15: n/a | AI15: Reactive power charge p/kVArh
B16: Charge components | C16: Unit 1 £ | D16: Unit 2 £ | E16: Unit 3 £ | F16: Fixed charge £ | G16: Capacity charge £ | H16: Exceeded capacity charge £ | I16: Reactive power charge £ | L16: Charge components | M16: Import super red charge £ | N16: Import fixed charge £ | O16: Import capacity charge £ | P16: Import exceeded capacity charge £ | Q16: Export super red charge £ | R16: Export fixed charge £ | S16: Export capacity charge £ | T16: Export exceeded capacity charge £ | AB16: LV Sub Generation Site Specific no RP charge | AC16: Red unit charge p/kWh | AD16: Amber unit charge p/kWh | AE16: Green unit charge p/kWh | AF16: Fixed charge p/MPAN/day | AG16: n/a | AH16: n/a | AI16: n/a
B17: Current consumption period charges | C17: =IFERROR(C10*C13/100,"") | D17: =IFERROR(D10*D13/100,"") | E17: =IFERROR(E10*E13/100,"") | F17: =IFERROR(F10*F13/100,"") | G17: =IFERROR(G10*G13*F13/100,"") | H17: =IFERROR(H10*H13*F13/100,"") | I17: =IFERROR(I10*I13/100,"") | L17: Current consumption period charges | M17: =IFERROR(M10*M13/100,"") | N17: =IFERROR(N10*N13/100,"") | O17: =IFERROR(O10*O13*N13/100,"") | P17: =IFERROR(P10*P13*N13/100,"") | Q17: =IFERROR(Q10*Q13/100,"") | R17: =IFERROR(R10*R13/100,"") | S17: =IFERROR(S10*S13*R13/100,"") | T17: =IFERROR(T10*T13*R13/100,"") | AB17: HV Generation Site Specific | AC17: Red unit charge p/kWh | AD17: Amber unit charge p/kWh | AE17: Green unit charge p/kWh | AF17: Fixed charge p/MPAN/day | AG17: n/a | AH17: n/a | AI17: Reactive power charge p/kVArh
